BEGIN:VCALENDAR
VERSION:2.0
PRODID:-//PSV Wien Sektion Sportschießen - ECPv6.15.18//NONSGML v1.0//EN
CALSCALE:GREGORIAN
METHOD:PUBLISH
X-WR-CALNAME:PSV Wien Sektion Sportschießen
X-ORIGINAL-URL:https://psvwiensportschiessen.at
X-WR-CALDESC:Veranstaltungen für PSV Wien Sektion Sportschießen
REFRESH-INTERVAL;VALUE=DURATION:PT1H
X-Robots-Tag:noindex
X-PUBLISHED-TTL:PT1H
BEGIN:VTIMEZONE
TZID:Europe/Berlin
BEGIN:DAYLIGHT
TZOFFSETFROM:+0100
TZOFFSETTO:+0200
TZNAME:CEST
DTSTART:20250330T010000
END:DAYLIGHT
BEGIN:STANDARD
TZOFFSETFROM:+0200
TZOFFSETTO:+0100
TZNAME:CET
DTSTART:20251026T010000
END:STANDARD
BEGIN:DAYLIGHT
TZOFFSETFROM:+0100
TZOFFSETTO:+0200
TZNAME:CEST
DTSTART:20260329T010000
END:DAYLIGHT
BEGIN:STANDARD
TZOFFSETFROM:+0200
TZOFFSETTO:+0100
TZNAME:CET
DTSTART:20261025T010000
END:STANDARD
BEGIN:DAYLIGHT
TZOFFSETFROM:+0100
TZOFFSETTO:+0200
TZNAME:CEST
DTSTART:20270328T010000
END:DAYLIGHT
BEGIN:STANDARD
TZOFFSETFROM:+0200
TZOFFSETTO:+0100
TZNAME:CET
DTSTART:20271031T010000
END:STANDARD
END:VTIMEZONE
BEGIN:VEVENT
DTSTART;TZID=Europe/Berlin:20260502T090000
DTEND;TZID=Europe/Berlin:20260502T150000
DTSTAMP:20260424T061007
CREATED:20260301T173808Z
LAST-MODIFIED:20260301T173948Z
UID:10000669-1777712400-1777734000@psvwiensportschiessen.at
SUMMARY:offener PSV 50/50 Sommercup 2026 Tag 1
DESCRIPTION:PSV_Sommercup_FFWGK_und_Optical_2026
URL:https://psvwiensportschiessen.at/event/offener-psv-50-50-sommercup-2026/
LOCATION:Schießsportzentrum Wien-Süßenbrunn\, Wielandweg 25\, Wien\, 1220\, Österreich
CATEGORIES:Faustfeuerwaffe Großkaliber (FFWGK),offener Bewerb,Optical (FFWGK)
END:VEVENT
BEGIN:VEVENT
DTSTART;TZID=Europe/Berlin:20260509T090000
DTEND;TZID=Europe/Berlin:20260509T150000
DTSTAMP:20260424T061007
CREATED:20260301T174028Z
LAST-MODIFIED:20260301T174028Z
UID:10000670-1778317200-1778338800@psvwiensportschiessen.at
SUMMARY:offener PSV 50/50 Sommercup 2026 Tag 2
DESCRIPTION:PSV_Sommercup_FFWGK_und_Optical_2026
URL:https://psvwiensportschiessen.at/event/offener-psv-50-50-sommercup-2026-tag-2/
LOCATION:Schießsportzentrum Wien-Süßenbrunn\, Wielandweg 25\, Wien\, 1220\, Österreich
CATEGORIES:Faustfeuerwaffe Großkaliber (FFWGK),offener Bewerb,Optical (FFWGK)
END:VEVENT
BEGIN:VEVENT
DTSTART;TZID=Europe/Berlin:20260516T090000
DTEND;TZID=Europe/Berlin:20260516T140000
DTSTAMP:20260424T061007
CREATED:20260216T161753Z
LAST-MODIFIED:20260216T161753Z
UID:10000641-1778922000-1778940000@psvwiensportschiessen.at
SUMMARY:SSLV Wien Wiener Cup FFWGK Runde 1
DESCRIPTION:SSLV Wien Wiener Cup FFWGK 2026
URL:https://psvwiensportschiessen.at/event/sslv-wien-wiener-cup-ffwgk-runde-1/
LOCATION:Schießsportzentrum Wien-Süßenbrunn\, Wielandweg 25\, Wien\, 1220\, Österreich
CATEGORIES:Faustfeuerwaffe Großkaliber (FFWGK),offener Bewerb
END:VEVENT
BEGIN:VEVENT
DTSTART;TZID=Europe/Berlin:20260530T090000
DTEND;TZID=Europe/Berlin:20260530T143000
DTSTAMP:20260424T061007
CREATED:20260206T203057Z
LAST-MODIFIED:20260206T203057Z
UID:10000634-1780131600-1780151400@psvwiensportschiessen.at
SUMMARY:PSV Revolver-/Glock-/45er-/Taschenwaffenbewerb
DESCRIPTION:PSV_Revolver_Glock_45er_Taschenwaffen_20260530
URL:https://psvwiensportschiessen.at/event/psv-revolver-glock-45er-taschenwaffenbewerb/
LOCATION:Schießsportzentrum Wien-Süßenbrunn\, Wielandweg 25\, Wien\, 1220\, Österreich
CATEGORIES:Faustfeuerwaffe Großkaliber (FFWGK),Kleinkaliber (.22),offener Bewerb
END:VEVENT
BEGIN:VEVENT
DTSTART;TZID=Europe/Berlin:20260620T110000
DTEND;TZID=Europe/Berlin:20260620T170000
DTSTAMP:20260424T061007
CREATED:20260301T174102Z
LAST-MODIFIED:20260301T174102Z
UID:10000671-1781953200-1781974800@psvwiensportschiessen.at
SUMMARY:offener PSV 50/50 Sommercup 2026 Tag 3
DESCRIPTION:PSV_Sommercup_FFWGK_und_Optical_2026
URL:https://psvwiensportschiessen.at/event/offener-psv-50-50-sommercup-2026-tag-3/
LOCATION:Schießsportzentrum Wien-Süßenbrunn\, Wielandweg 25\, Wien\, 1220\, Österreich
CATEGORIES:Faustfeuerwaffe Großkaliber (FFWGK),offener Bewerb,Optical (FFWGK)
END:VEVENT
BEGIN:VEVENT
DTSTART;TZID=Europe/Berlin:20260704T110000
DTEND;TZID=Europe/Berlin:20260704T170000
DTSTAMP:20260424T061007
CREATED:20260301T174131Z
LAST-MODIFIED:20260301T174131Z
UID:10000672-1783162800-1783184400@psvwiensportschiessen.at
SUMMARY:offener PSV 50/50 Sommercup 2026 Tag 4
DESCRIPTION:PSV_Sommercup_FFWGK_und_Optical_2026
URL:https://psvwiensportschiessen.at/event/offener-psv-50-50-sommercup-2026-tag-4/
LOCATION:Schießsportzentrum Wien-Süßenbrunn\, Wielandweg 25\, Wien\, 1220\, Österreich
CATEGORIES:Faustfeuerwaffe Großkaliber (FFWGK),offener Bewerb,Optical (FFWGK)
END:VEVENT
BEGIN:VEVENT
DTSTART;TZID=Europe/Berlin:20260725T090000
DTEND;TZID=Europe/Berlin:20260725T140000
DTSTAMP:20260424T061007
CREATED:20260216T162053Z
LAST-MODIFIED:20260216T162210Z
UID:10000643-1784970000-1784988000@psvwiensportschiessen.at
SUMMARY:SSLV Wien Wiener Cup FFWGK Runde 3
DESCRIPTION:SSLV Wien Wiener Cup FFWGK 2026
URL:https://psvwiensportschiessen.at/event/sslv-wien-wiener-cup-ffwgk-runde-3/
LOCATION:Schießsportzentrum Wien-Süßenbrunn\, Wielandweg 25\, Wien\, 1220\, Österreich
CATEGORIES:Faustfeuerwaffe Großkaliber (FFWGK),offener Bewerb
END:VEVENT
BEGIN:VEVENT
DTSTART;TZID=Europe/Berlin:20260808T090000
DTEND;TZID=Europe/Berlin:20260808T150000
DTSTAMP:20260424T061007
CREATED:20260301T174221Z
LAST-MODIFIED:20260301T174221Z
UID:10000673-1786179600-1786201200@psvwiensportschiessen.at
SUMMARY:offener PSV 50/50 Sommercup 2026 Tag 5
DESCRIPTION:PSV_Sommercup_FFWGK_und_Optical_2026
URL:https://psvwiensportschiessen.at/event/offener-psv-50-50-sommercup-2026-tag-5/
LOCATION:Schießsportzentrum Wien-Süßenbrunn\, Wielandweg 25\, Wien\, 1220\, Österreich
CATEGORIES:Faustfeuerwaffe Großkaliber (FFWGK),offener Bewerb,Optical (FFWGK)
END:VEVENT
BEGIN:VEVENT
DTSTART;TZID=Europe/Berlin:20260822T090000
DTEND;TZID=Europe/Berlin:20260822T140000
DTSTAMP:20260424T061007
CREATED:20260216T162234Z
LAST-MODIFIED:20260216T162234Z
UID:10000645-1787389200-1787407200@psvwiensportschiessen.at
SUMMARY:SSLV Wien Wiener Cup FFWGK Runde 5
DESCRIPTION:SSLV Wien Wiener Cup FFWGK 2026
URL:https://psvwiensportschiessen.at/event/sslv-wien-wiener-cup-ffwgk-runde-5/
LOCATION:Schießsportzentrum Wien-Süßenbrunn\, Wielandweg 25\, Wien\, 1220\, Österreich
CATEGORIES:Faustfeuerwaffe Großkaliber (FFWGK),offener Bewerb
END:VEVENT
BEGIN:VEVENT
DTSTART;TZID=Europe/Berlin:20260822T120000
DTEND;TZID=Europe/Berlin:20260822T180000
DTSTAMP:20260424T061007
CREATED:20260301T174249Z
LAST-MODIFIED:20260301T174249Z
UID:10000674-1787400000-1787421600@psvwiensportschiessen.at
SUMMARY:offener PSV 50/50 Sommercup 2026 Tag 6
DESCRIPTION:PSV_Sommercup_FFWGK_und_Optical_2026
URL:https://psvwiensportschiessen.at/event/offener-psv-50-50-sommercup-2026-tag-6/
LOCATION:Schießsportzentrum Wien-Süßenbrunn\, Wielandweg 25\, Wien\, 1220\, Österreich
CATEGORIES:Faustfeuerwaffe Großkaliber (FFWGK),offener Bewerb,Optical (FFWGK)
END:VEVENT
END:VCALENDAR