BEGIN:VCALENDAR
VERSION:2.0
PRODID:-//PSV Wien Sektion Sportschießen - ECPv6.15.18//NONSGML v1.0//EN
CALSCALE:GREGORIAN
METHOD:PUBLISH
X-ORIGINAL-URL:https://psvwiensportschiessen.at
X-WR-CALDESC:Veranstaltungen für PSV Wien Sektion Sportschießen
REFRESH-INTERVAL;VALUE=DURATION:PT1H
X-Robots-Tag:noindex
X-PUBLISHED-TTL:PT1H
BEGIN:VTIMEZONE
TZID:Europe/Berlin
BEGIN:DAYLIGHT
TZOFFSETFROM:+0100
TZOFFSETTO:+0200
TZNAME:CEST
DTSTART:20240331T010000
END:DAYLIGHT
BEGIN:STANDARD
TZOFFSETFROM:+0200
TZOFFSETTO:+0100
TZNAME:CET
DTSTART:20241027T010000
END:STANDARD
BEGIN:DAYLIGHT
TZOFFSETFROM:+0100
TZOFFSETTO:+0200
TZNAME:CEST
DTSTART:20250330T010000
END:DAYLIGHT
BEGIN:STANDARD
TZOFFSETFROM:+0200
TZOFFSETTO:+0100
TZNAME:CET
DTSTART:20251026T010000
END:STANDARD
BEGIN:DAYLIGHT
TZOFFSETFROM:+0100
TZOFFSETTO:+0200
TZNAME:CEST
DTSTART:20260329T010000
END:DAYLIGHT
BEGIN:STANDARD
TZOFFSETFROM:+0200
TZOFFSETTO:+0100
TZNAME:CET
DTSTART:20261025T010000
END:STANDARD
BEGIN:DAYLIGHT
TZOFFSETFROM:+0100
TZOFFSETTO:+0200
TZNAME:CEST
DTSTART:20270328T010000
END:DAYLIGHT
BEGIN:STANDARD
TZOFFSETFROM:+0200
TZOFFSETTO:+0100
TZNAME:CET
DTSTART:20271031T010000
END:STANDARD
END:VTIMEZONE
BEGIN:VEVENT
DTSTART;TZID=Europe/Berlin:20260418T100000
DTEND;TZID=Europe/Berlin:20260418T120000
DTSTAMP:20260424T075236
CREATED:20251101T092914Z
LAST-MODIFIED:20251101T092914Z
UID:10000586-1776506400-1776513600@psvwiensportschiessen.at
SUMMARY:offener PSV FFWGK Wintercup 2026 Ergänzungstag 2
DESCRIPTION:PSV_FFWGK_Wintercup2026
URL:https://psvwiensportschiessen.at/event/offener-psv-ffwgk-wintercup-2026-ergaenzungstag-2/
LOCATION:Schießsportzentrum Wien-Süßenbrunn\, Wielandweg 25\, Wien\, 1220\, Österreich
CATEGORIES:Faustfeuerwaffe Großkaliber (FFWGK),offener Bewerb
END:VEVENT
BEGIN:VEVENT
DTSTART;TZID=Europe/Berlin:20260404T133000
DTEND;TZID=Europe/Berlin:20260404T153000
DTSTAMP:20260424T075236
CREATED:20251101T092815Z
LAST-MODIFIED:20251101T092815Z
UID:10000585-1775309400-1775316600@psvwiensportschiessen.at
SUMMARY:offener PSV FFWGK Wintercup 2026 Ergänzungstag 1
DESCRIPTION:PSV_FFWGK_Wintercup2026
URL:https://psvwiensportschiessen.at/event/offener-psv-ffwgk-wintercup-2026-ergaenzungstag-1/
LOCATION:Schießsportzentrum Wien-Süßenbrunn\, Wielandweg 25\, Wien\, 1220\, Österreich
CATEGORIES:Faustfeuerwaffe Großkaliber (FFWGK),offener Bewerb
END:VEVENT
BEGIN:VEVENT
DTSTART;TZID=Europe/Berlin:20260404T090000
DTEND;TZID=Europe/Berlin:20260404T130000
DTSTAMP:20260424T075236
CREATED:20260111T054843Z
LAST-MODIFIED:20260111T054843Z
UID:10000632-1775293200-1775307600@psvwiensportschiessen.at
SUMMARY:PSV Osterschießen
DESCRIPTION:PSV_Osterschießen_20260404
URL:https://psvwiensportschiessen.at/event/psv-osterschiessen/
LOCATION:Schießsportzentrum Wien-Süßenbrunn\, Wielandweg 25\, Wien\, 1220\, Österreich
CATEGORIES:Faustfeuerwaffe Großkaliber (FFWGK),Kleinkaliber (.22),offener Bewerb
END:VEVENT
BEGIN:VEVENT
DTSTART;TZID=Europe/Berlin:20260328T093000
DTEND;TZID=Europe/Berlin:20260328T130000
DTSTAMP:20260424T075236
CREATED:20260111T054015Z
LAST-MODIFIED:20260111T054015Z
UID:10000631-1774690200-1774702800@psvwiensportschiessen.at
SUMMARY:PSV Bewerb "Würfel"
DESCRIPTION:PSV_Würfelbewerb_20260328
URL:https://psvwiensportschiessen.at/event/psv-bewerb-wuerfel/
LOCATION:Schießsportzentrum Wien-Süßenbrunn\, Wielandweg 25\, Wien\, 1220\, Österreich
CATEGORIES:Faustfeuerwaffe Großkaliber (FFWGK),Kleinkaliber (.22),offener Bewerb
END:VEVENT
BEGIN:VEVENT
DTSTART;TZID=Europe/Berlin:20260321T090000
DTEND;TZID=Europe/Berlin:20260321T130000
DTSTAMP:20260424T075236
CREATED:20251101T092711Z
LAST-MODIFIED:20251101T092711Z
UID:10000584-1774083600-1774098000@psvwiensportschiessen.at
SUMMARY:offener PSV FFWGK Wintercup 2026 Tag 6
DESCRIPTION:PSV_FFWGK_Wintercup2026
URL:https://psvwiensportschiessen.at/event/offener-psv-ffwgk-wintercup-2026-tag-6/
LOCATION:Schießsportzentrum Wien-Süßenbrunn\, Wielandweg 25\, Wien\, 1220\, Österreich
CATEGORIES:Faustfeuerwaffe Großkaliber (FFWGK),offener Bewerb
END:VEVENT
BEGIN:VEVENT
DTSTART;TZID=Europe/Berlin:20260314T090000
DTEND;TZID=Europe/Berlin:20260314T130000
DTSTAMP:20260424T075236
CREATED:20251101T092610Z
LAST-MODIFIED:20251101T092610Z
UID:10000583-1773478800-1773493200@psvwiensportschiessen.at
SUMMARY:offener PSV FFWGK Wintercup 2026 Tag 5
DESCRIPTION:PSV_FFWGK_Wintercup2026
URL:https://psvwiensportschiessen.at/event/offener-psv-ffwgk-wintercup-2026-tag-5/
LOCATION:Schießsportzentrum Wien-Süßenbrunn\, Wielandweg 25\, Wien\, 1220\, Österreich
CATEGORIES:Faustfeuerwaffe Großkaliber (FFWGK),offener Bewerb
END:VEVENT
BEGIN:VEVENT
DTSTART;TZID=Europe/Berlin:20260228T090000
DTEND;TZID=Europe/Berlin:20260228T130000
DTSTAMP:20260424T075236
CREATED:20251101T092511Z
LAST-MODIFIED:20251101T092511Z
UID:10000582-1772269200-1772283600@psvwiensportschiessen.at
SUMMARY:offener PSV FFWGK Wintercup 2026 Tag 4
DESCRIPTION:PSV_FFWGK_Wintercup2026
URL:https://psvwiensportschiessen.at/event/offener-psv-ffwgk-wintercup-2026-tag-4/
LOCATION:Schießsportzentrum Wien-Süßenbrunn\, Wielandweg 25\, Wien\, 1220\, Österreich
CATEGORIES:Faustfeuerwaffe Großkaliber (FFWGK),offener Bewerb
END:VEVENT
BEGIN:VEVENT
DTSTART;TZID=Europe/Berlin:20260214T090000
DTEND;TZID=Europe/Berlin:20260214T130000
DTSTAMP:20260424T075236
CREATED:20251101T092356Z
LAST-MODIFIED:20251101T092356Z
UID:10000581-1771059600-1771074000@psvwiensportschiessen.at
SUMMARY:offener PSV FFWGK Wintercup 2026 Tag 3
DESCRIPTION:PSV_FFWGK_Wintercup2026
URL:https://psvwiensportschiessen.at/event/offener-psv-ffwgk-wintercup-2026-tag-3/
LOCATION:Schießsportzentrum Wien-Süßenbrunn\, Wielandweg 25\, Wien\, 1220\, Österreich
CATEGORIES:Faustfeuerwaffe Großkaliber (FFWGK),offener Bewerb
END:VEVENT
BEGIN:VEVENT
DTSTART;TZID=Europe/Berlin:20260117T090000
DTEND;TZID=Europe/Berlin:20260117T130000
DTSTAMP:20260424T075236
CREATED:20251101T092305Z
LAST-MODIFIED:20251101T092415Z
UID:10000580-1768640400-1768654800@psvwiensportschiessen.at
SUMMARY:offener PSV FFWGK Wintercup 2026 Tag 2
DESCRIPTION:PSV_FFWGK_Wintercup2026
URL:https://psvwiensportschiessen.at/event/offener-psv-ffwgk-wintercup-2026-tag-2/
LOCATION:Schießsportzentrum Wien-Süßenbrunn\, Wielandweg 25\, Wien\, 1220\, Österreich
CATEGORIES:Faustfeuerwaffe Großkaliber (FFWGK),offener Bewerb
END:VEVENT
BEGIN:VEVENT
DTSTART;TZID=Europe/Berlin:20260103T090000
DTEND;TZID=Europe/Berlin:20260103T130000
DTSTAMP:20260424T075236
CREATED:20251101T092141Z
LAST-MODIFIED:20251101T092141Z
UID:10000579-1767430800-1767445200@psvwiensportschiessen.at
SUMMARY:offener PSV FFWGK Wintercup 2026 Tag 1
DESCRIPTION:PSV_FFWGK_Wintercup2026
URL:https://psvwiensportschiessen.at/event/offener-psv-ffwgk-wintercup-2026-tag-1/
LOCATION:Schießsportzentrum Wien-Süßenbrunn\, Wielandweg 25\, Wien\, 1220\, Österreich
CATEGORIES:Faustfeuerwaffe Großkaliber (FFWGK),offener Bewerb
END:VEVENT
BEGIN:VEVENT
DTSTART;TZID=Europe/Berlin:20251231T090000
DTEND;TZID=Europe/Berlin:20251231T123000
DTSTAMP:20260424T075236
CREATED:20251019T044820Z
LAST-MODIFIED:20251019T044820Z
UID:10000578-1767171600-1767184200@psvwiensportschiessen.at
SUMMARY:PSV Silvesterschießen 2025
DESCRIPTION:PSV_Silvesterschießen_20251231
URL:https://psvwiensportschiessen.at/event/psv-silvesterschiessen-2025/
LOCATION:Schießsportzentrum Wien-Süßenbrunn\, Wielandweg 25\, Wien\, 1220\, Österreich
CATEGORIES:Faustfeuerwaffe Großkaliber (FFWGK),Kleinkaliber (.22),offener Bewerb
END:VEVENT
BEGIN:VEVENT
DTSTART;TZID=Europe/Berlin:20251220T090000
DTEND;TZID=Europe/Berlin:20251220T120000
DTSTAMP:20260424T075236
CREATED:20250929T181447Z
LAST-MODIFIED:20250929T181447Z
UID:10000567-1766221200-1766232000@psvwiensportschiessen.at
SUMMARY:PSV Weihnachtsschießen 2025
DESCRIPTION:PSV_Weihnachtsschießen_20251220
URL:https://psvwiensportschiessen.at/event/psv-weihnachtsschiessen-2025/
LOCATION:Schießsportzentrum Wien-Süßenbrunn\, Wielandweg 25\, Wien\, 1220\, Österreich
CATEGORIES:Faustfeuerwaffe Großkaliber (FFWGK),Kleinkaliber (.22),offener Bewerb
END:VEVENT
BEGIN:VEVENT
DTSTART;TZID=Europe/Berlin:20251213T090000
DTEND;TZID=Europe/Berlin:20251213T123000
DTSTAMP:20260424T075236
CREATED:20250928T164103Z
LAST-MODIFIED:20250928T164103Z
UID:10000557-1765616400-1765629000@psvwiensportschiessen.at
SUMMARY:FFWGK "kleine Scheibe"
DESCRIPTION:FFWGK_kleineScheibe_20251213
URL:https://psvwiensportschiessen.at/event/ffwgk-kleine-scheibe/
LOCATION:Schießsportzentrum Wien-Süßenbrunn\, Wielandweg 25\, Wien\, 1220\, Österreich
CATEGORIES:Faustfeuerwaffe Großkaliber (FFWGK),offener Bewerb
END:VEVENT
BEGIN:VEVENT
DTSTART;TZID=Europe/Berlin:20251206T090000
DTEND;TZID=Europe/Berlin:20251206T120000
DTSTAMP:20260424T075236
CREATED:20250910T145455Z
LAST-MODIFIED:20250910T145455Z
UID:10000555-1765011600-1765022400@psvwiensportschiessen.at
SUMMARY:PSV Krampusschießen 2025
DESCRIPTION:PSV_Krampusschießen_20251206
URL:https://psvwiensportschiessen.at/event/psv-krampusschiessen-2025/
LOCATION:Schießsportzentrum Wien-Süßenbrunn\, Wielandweg 25\, Wien\, 1220\, Österreich
CATEGORIES:Faustfeuerwaffe Großkaliber (FFWGK),Kleinkaliber (.22),offener Bewerb
END:VEVENT
BEGIN:VEVENT
DTSTART;TZID=Europe/Berlin:20251122T140000
DTEND;TZID=Europe/Berlin:20251122T150000
DTSTAMP:20260424T075236
CREATED:20250929T174855Z
LAST-MODIFIED:20250929T174855Z
UID:10000566-1763820000-1763823600@psvwiensportschiessen.at
SUMMARY:Vereinsmeisterschaft FFWGK 2025
DESCRIPTION:PSV_VM_FFWGK_2025
URL:https://psvwiensportschiessen.at/event/vereinsmeisterschaft-ffwgk-2025-5/
LOCATION:Schießsportzentrum Wien-Süßenbrunn\, Wielandweg 25\, Wien\, 1220\, Österreich
CATEGORIES:Faustfeuerwaffe Großkaliber (FFWGK),vereinsinterner Bewerb
END:VEVENT
BEGIN:VEVENT
DTSTART;TZID=Europe/Berlin:20251122T090000
DTEND;TZID=Europe/Berlin:20251122T130000
DTSTAMP:20260424T075236
CREATED:20250907T043246Z
LAST-MODIFIED:20250907T043246Z
UID:10000550-1763802000-1763816400@psvwiensportschiessen.at
SUMMARY:PSV Groß- und Kleinkaliberschießen
DESCRIPTION:GroßKleinkaliberschießen_20251122
URL:https://psvwiensportschiessen.at/event/psv-gross-und-kleinkaliberschiessen-2/
LOCATION:Schießsportzentrum Wien-Süßenbrunn\, Wielandweg 25\, Wien\, 1220\, Österreich
CATEGORIES:Faustfeuerwaffe Großkaliber (FFWGK),Kleinkaliber (.22),offener Bewerb
END:VEVENT
BEGIN:VEVENT
DTSTART;TZID=Europe/Berlin:20251115T140000
DTEND;TZID=Europe/Berlin:20251115T160000
DTSTAMP:20260424T075236
CREATED:20250929T174751Z
LAST-MODIFIED:20250929T174751Z
UID:10000565-1763215200-1763222400@psvwiensportschiessen.at
SUMMARY:Vereinsmeisterschaft FFWGK 2025
DESCRIPTION:PSV_VM_FFWGK_2025
URL:https://psvwiensportschiessen.at/event/vereinsmeisterschaft-ffwgk-2025-4/
LOCATION:Schießsportzentrum Wien-Süßenbrunn\, Wielandweg 25\, Wien\, 1220\, Österreich
CATEGORIES:Faustfeuerwaffe Großkaliber (FFWGK),vereinsinterner Bewerb
END:VEVENT
BEGIN:VEVENT
DTSTART;TZID=Europe/Berlin:20251025T090000
DTEND;TZID=Europe/Berlin:20251025T150000
DTSTAMP:20260424T075236
CREATED:20250907T043942Z
LAST-MODIFIED:20250907T043942Z
UID:10000552-1761382800-1761404400@psvwiensportschiessen.at
SUMMARY:PSV "5 Scheiben"
DESCRIPTION:PSV_5Scheiben_20251025
URL:https://psvwiensportschiessen.at/event/psv-5-scheiben/
LOCATION:Schießsportzentrum Wien-Süßenbrunn\, Wielandweg 25\, Wien\, 1220\, Österreich
CATEGORIES:Faustfeuerwaffe Großkaliber (FFWGK),offener Bewerb
END:VEVENT
BEGIN:VEVENT
DTSTART;TZID=Europe/Berlin:20251018T090000
DTEND;TZID=Europe/Berlin:20251018T150000
DTSTAMP:20260424T075236
CREATED:20250612T144733Z
LAST-MODIFIED:20250803T043013Z
UID:10000544-1760778000-1760799600@psvwiensportschiessen.at
SUMMARY:PSV Revolver-/45er-/Glock-/Taschenwaffenbewerb
DESCRIPTION:Revolver_45er_Glock_Taschenwaffen_20251018
URL:https://psvwiensportschiessen.at/event/psv-revolver-45er-glock-taschenwaffenbewerb-2/
LOCATION:Schießsportzentrum Wien-Süßenbrunn\, Wielandweg 25\, Wien\, 1220\, Österreich
CATEGORIES:Faustfeuerwaffe Großkaliber (FFWGK),Kleinkaliber (.22),offener Bewerb
END:VEVENT
BEGIN:VEVENT
DTSTART;TZID=Europe/Berlin:20251017T140000
DTEND;TZID=Europe/Berlin:20251017T170000
DTSTAMP:20260424T075236
CREATED:20250929T174655Z
LAST-MODIFIED:20250929T174655Z
UID:10000564-1760709600-1760720400@psvwiensportschiessen.at
SUMMARY:Vereinsmeisterschaft FFWGK 2025
DESCRIPTION:PSV_VM_FFWGK_2025
URL:https://psvwiensportschiessen.at/event/vereinsmeisterschaft-ffwgk-2025-3/
LOCATION:Schießsportzentrum Wien-Süßenbrunn\, Wielandweg 25\, Wien\, 1220\, Österreich
CATEGORIES:Faustfeuerwaffe Großkaliber (FFWGK),vereinsinterner Bewerb
END:VEVENT
BEGIN:VEVENT
DTSTART;TZID=Europe/Berlin:20251011T090000
DTEND;TZID=Europe/Berlin:20251011T140000
DTSTAMP:20260424T075236
CREATED:20250710T050254Z
LAST-MODIFIED:20250710T050254Z
UID:10000548-1760173200-1760191200@psvwiensportschiessen.at
SUMMARY:PSV "La Linea"
DESCRIPTION:PSV_LaLinea_20251011
URL:https://psvwiensportschiessen.at/event/psv-la-linea/
LOCATION:Schießsportzentrum Wien-Süßenbrunn\, Wielandweg 25\, Wien\, 1220\, Österreich
CATEGORIES:Faustfeuerwaffe Großkaliber (FFWGK),Kleinkaliber (.22),offener Bewerb
END:VEVENT
BEGIN:VEVENT
DTSTART;TZID=Europe/Berlin:20251010T140000
DTEND;TZID=Europe/Berlin:20251010T170000
DTSTAMP:20260424T075236
CREATED:20250929T174516Z
LAST-MODIFIED:20250929T174516Z
UID:10000562-1760104800-1760115600@psvwiensportschiessen.at
SUMMARY:Vereinsmeisterschaft FFWGK 2025
DESCRIPTION:PSV_VM_FFWGK_2025
URL:https://psvwiensportschiessen.at/event/vereinsmeisterschaft-ffwgk-2025/
LOCATION:Schießsportzentrum Wien-Süßenbrunn\, Wielandweg 25\, Wien\, 1220\, Österreich
CATEGORIES:Faustfeuerwaffe Großkaliber (FFWGK),vereinsinterner Bewerb
END:VEVENT
BEGIN:VEVENT
DTSTART;TZID=Europe/Berlin:20250905T160000
DTEND;TZID=Europe/Berlin:20250907T180000
DTSTAMP:20260424T075236
CREATED:20250721T143136Z
LAST-MODIFIED:20250721T143444Z
UID:10000549-1757088000-1757268000@psvwiensportschiessen.at
SUMMARY:SSLV Wien Landesmeisterschaft FFWGK
DESCRIPTION:Ausschreibung_LM_FFWGK_20250907
URL:https://psvwiensportschiessen.at/event/sslv-wien-landesmeisterschaft-ffwgk/
LOCATION:Schießsportzentrum Wien-Süßenbrunn\, Wielandweg 25\, Wien\, 1220\, Österreich
CATEGORIES:Faustfeuerwaffe Großkaliber (FFWGK),offener Bewerb
END:VEVENT
BEGIN:VEVENT
DTSTART;TZID=Europe/Berlin:20250830T090000
DTEND;TZID=Europe/Berlin:20250830T133000
DTSTAMP:20260424T075236
CREATED:20250201T095726Z
LAST-MODIFIED:20250201T095726Z
UID:10000506-1756544400-1756560600@psvwiensportschiessen.at
SUMMARY:SSLV Wien offener SGKP-FFWGK Wiener Cup 2025 Runde 5 (bei SKH)
DESCRIPTION:Ausschreibung_SGKP-FFWGK_Cup_2025
URL:https://psvwiensportschiessen.at/event/sslv-wien-offener-sgkp-ffwgk-wiener-cup-2025-runde-5-bei-skh/
LOCATION:Schießsportzentrum Wien-Süßenbrunn\, Wielandweg 25\, Wien\, 1220\, Österreich
CATEGORIES:Faustfeuerwaffe Großkaliber (FFWGK),offener Bewerb
END:VEVENT
BEGIN:VEVENT
DTSTART;TZID=Europe/Berlin:20250823T090000
DTEND;TZID=Europe/Berlin:20250823T133000
DTSTAMP:20260424T075236
CREATED:20250315T192730Z
LAST-MODIFIED:20250413T080749Z
UID:10000538-1755939600-1755955800@psvwiensportschiessen.at
SUMMARY:PSV FFWGK Vollprogramm 30/30 ("große Scheibe")
DESCRIPTION:FFWGK_Vollprogramm_3030_20250823
URL:https://psvwiensportschiessen.at/event/ffwgk-vollprogramm-30-30-grosse-scheibe-4/
LOCATION:Schießsportzentrum Wien-Süßenbrunn\, Wielandweg 25\, Wien\, 1220\, Österreich
CATEGORIES:Faustfeuerwaffe Großkaliber (FFWGK),offener Bewerb
END:VEVENT
BEGIN:VEVENT
DTSTART;TZID=Europe/Berlin:20250816T090000
DTEND;TZID=Europe/Berlin:20250816T140000
DTSTAMP:20260424T075236
CREATED:20250315T061833Z
LAST-MODIFIED:20250413T080806Z
UID:10000536-1755334800-1755352800@psvwiensportschiessen.at
SUMMARY:PSV FFWGK Vollprogramm 20/20 ("kleine Scheibe")
DESCRIPTION:FFWGK_Vollprogramm_2020_20250816
URL:https://psvwiensportschiessen.at/event/ffwgk-vollprogramm-20-20-kleine-scheibe-7/
LOCATION:Schießsportzentrum Wien-Süßenbrunn\, Wielandweg 25\, Wien\, 1220\, Österreich
CATEGORIES:Faustfeuerwaffe Großkaliber (FFWGK),offener Bewerb
END:VEVENT
BEGIN:VEVENT
DTSTART;TZID=Europe/Berlin:20250809T090000
DTEND;TZID=Europe/Berlin:20250809T133000
DTSTAMP:20260424T075236
CREATED:20250315T192649Z
LAST-MODIFIED:20250413T080821Z
UID:10000537-1754730000-1754746200@psvwiensportschiessen.at
SUMMARY:PSV FFWGK Vollprogramm 30/30 ("große Scheibe")
DESCRIPTION:FFWGK_Vollprogramm_3030_20250809
URL:https://psvwiensportschiessen.at/event/ffwgk-vollprogramm-30-30-grosse-scheibe-3/
LOCATION:Schießsportzentrum Wien-Süßenbrunn\, Wielandweg 25\, Wien\, 1220\, Österreich
CATEGORIES:Faustfeuerwaffe Großkaliber (FFWGK),offener Bewerb
END:VEVENT
BEGIN:VEVENT
DTSTART;TZID=Europe/Berlin:20250802T090000
DTEND;TZID=Europe/Berlin:20250802T123000
DTSTAMP:20260424T075236
CREATED:20250315T061730Z
LAST-MODIFIED:20250413T080835Z
UID:10000535-1754125200-1754137800@psvwiensportschiessen.at
SUMMARY:PSV FFWGK Vollprogramm 20/20 ("kleine Scheibe")
DESCRIPTION:FFWGK_Vollprogramm_2020_20250802
URL:https://psvwiensportschiessen.at/event/ffwgk-vollprogramm-20-20-kleine-scheibe-6/
LOCATION:Schießsportzentrum Wien-Süßenbrunn\, Wielandweg 25\, Wien\, 1220\, Österreich
CATEGORIES:Faustfeuerwaffe Großkaliber (FFWGK),offener Bewerb
END:VEVENT
BEGIN:VEVENT
DTSTART;TZID=Europe/Berlin:20250712T090000
DTEND;TZID=Europe/Berlin:20250712T130000
DTSTAMP:20260424T075236
CREATED:20250614T040807Z
LAST-MODIFIED:20250614T040807Z
UID:10000546-1752310800-1752325200@psvwiensportschiessen.at
SUMMARY:Qualifikation zur Österreichischen Meisterschaft FFWGK 2025
DESCRIPTION:
URL:https://psvwiensportschiessen.at/event/qualifikation-zur-oesterreichischen-meisterschaft-ffwgk-2025-2/
LOCATION:Schießsportzentrum Wien-Süßenbrunn\, Wielandweg 25\, Wien\, 1220\, Österreich
CATEGORIES:Faustfeuerwaffe Großkaliber (FFWGK),offener Bewerb
END:VEVENT
BEGIN:VEVENT
DTSTART;TZID=Europe/Berlin:20250628T090000
DTEND;TZID=Europe/Berlin:20250628T130000
DTSTAMP:20260424T075236
CREATED:20250305T191214Z
LAST-MODIFIED:20250305T191214Z
UID:10000516-1751101200-1751115600@psvwiensportschiessen.at
SUMMARY:PSV FFWGK Vollprogramm "große Scheibe mit Duellmodus"
DESCRIPTION:FFWGK_Vollprogramm_Duellmodus
URL:https://psvwiensportschiessen.at/event/psv-ffwgk-vollprogramm-grosse-scheibe-mit-duellmodus/
LOCATION:Schießsportzentrum Wien-Süßenbrunn\, Wielandweg 25\, Wien\, 1220\, Österreich
CATEGORIES:Faustfeuerwaffe Großkaliber (FFWGK),offener Bewerb
END:VEVENT
END:VCALENDAR