BEGIN:VCALENDAR
VERSION:2.0
PRODID:-//PSV Wien Sektion Sportschießen - ECPv6.15.18//NONSGML v1.0//EN
CALSCALE:GREGORIAN
METHOD:PUBLISH
X-WR-CALNAME:PSV Wien Sektion Sportschießen
X-ORIGINAL-URL:https://psvwiensportschiessen.at
X-WR-CALDESC:Veranstaltungen für PSV Wien Sektion Sportschießen
REFRESH-INTERVAL;VALUE=DURATION:PT1H
X-Robots-Tag:noindex
X-PUBLISHED-TTL:PT1H
BEGIN:VTIMEZONE
TZID:Europe/Berlin
BEGIN:DAYLIGHT
TZOFFSETFROM:+0100
TZOFFSETTO:+0200
TZNAME:CEST
DTSTART:20230326T010000
END:DAYLIGHT
BEGIN:STANDARD
TZOFFSETFROM:+0200
TZOFFSETTO:+0100
TZNAME:CET
DTSTART:20231029T010000
END:STANDARD
BEGIN:DAYLIGHT
TZOFFSETFROM:+0100
TZOFFSETTO:+0200
TZNAME:CEST
DTSTART:20240331T010000
END:DAYLIGHT
BEGIN:STANDARD
TZOFFSETFROM:+0200
TZOFFSETTO:+0100
TZNAME:CET
DTSTART:20241027T010000
END:STANDARD
BEGIN:DAYLIGHT
TZOFFSETFROM:+0100
TZOFFSETTO:+0200
TZNAME:CEST
DTSTART:20250330T010000
END:DAYLIGHT
BEGIN:STANDARD
TZOFFSETFROM:+0200
TZOFFSETTO:+0100
TZNAME:CET
DTSTART:20251026T010000
END:STANDARD
END:VTIMEZONE
BEGIN:VEVENT
DTSTART;TZID=Europe/Berlin:20241217T180000
DTEND;TZID=Europe/Berlin:20241217T233000
DTSTAMP:20260421T221613
CREATED:20241101T212918Z
LAST-MODIFIED:20241101T212918Z
UID:10000461-1734458400-1734478200@psvwiensportschiessen.at
SUMMARY:Weihnachtsfeier Sektion Sportschießen
DESCRIPTION:
URL:https://psvwiensportschiessen.at/event/weihnachtsfeier-sektion-sportschiessen/
LOCATION:Freizeit- und Dienstsportzentrum PSV Wien\, Dampfschiffhaufen 2\, Wien\, 1220\, Österreich
CATEGORIES:vereinsinterner Bewerb
END:VEVENT
BEGIN:VEVENT
DTSTART;TZID=Europe/Berlin:20241211T160000
DTEND;TZID=Europe/Berlin:20241211T200000
DTSTAMP:20260421T221613
CREATED:20241011T204004Z
LAST-MODIFIED:20241011T204004Z
UID:10000445-1733932800-1733947200@psvwiensportschiessen.at
SUMMARY:SSLV Wien Wiener Cup LP5 Runde 3
DESCRIPTION:Ausschreibung Wr. Cup LP5 2024_25
URL:https://psvwiensportschiessen.at/event/sslv-wien-wiener-cup-lp5-runde-3/
LOCATION:Freizeit- und Dienstsportzentrum PSV Wien\, Dampfschiffhaufen 2\, Wien\, 1220\, Österreich
CATEGORIES:LP5,Luftpistole,offener Bewerb
END:VEVENT
BEGIN:VEVENT
DTSTART;TZID=Europe/Berlin:20241127T170000
DTEND;TZID=Europe/Berlin:20241127T213000
DTSTAMP:20260421T221613
CREATED:20241013T102346Z
LAST-MODIFIED:20241013T102346Z
UID:10000452-1732726800-1732743000@psvwiensportschiessen.at
SUMMARY:SSLV Wien Rundenwettkämpfe LP1 und LP1 aufgelegt Runde 4
DESCRIPTION:Ausschreibung RWK LP1_ LP1 aufgelegt 2024_25
URL:https://psvwiensportschiessen.at/event/sslv-wien-rundenwettkaempfe-lp1-und-lp1-aufgelegt-runde-4/
LOCATION:Freizeit- und Dienstsportzentrum PSV Wien\, Dampfschiffhaufen 2\, Wien\, 1220\, Österreich
CATEGORIES:LP1,offener Bewerb
END:VEVENT
BEGIN:VEVENT
DTSTART;TZID=Europe/Berlin:20241121T180000
DTEND;TZID=Europe/Berlin:20241121T233000
DTSTAMP:20260421T221613
CREATED:20241101T212456Z
LAST-MODIFIED:20241101T212456Z
UID:10000459-1732212000-1732231800@psvwiensportschiessen.at
SUMMARY:Vereinsabend November
DESCRIPTION:
URL:https://psvwiensportschiessen.at/event/vereinsabend-november/
LOCATION:Freizeit- und Dienstsportzentrum PSV Wien\, Dampfschiffhaufen 2\, Wien\, 1220\, Österreich
CATEGORIES:vereinsinterne Veranstaltung (kein Bewerb)
END:VEVENT
BEGIN:VEVENT
DTSTART;TZID=Europe/Berlin:20241114T170000
DTEND;TZID=Europe/Berlin:20241114T213000
DTSTAMP:20260421T221613
CREATED:20241101T211643Z
LAST-MODIFIED:20250314T070053Z
UID:10000454-1731603600-1731619800@psvwiensportschiessen.at
SUMMARY:SSLV Wien Rundenwettkämpfe LP1 und LP1 aufgelegt Runde 3
DESCRIPTION:
URL:https://psvwiensportschiessen.at/event/sslv-wien-rundenwettkaempfe-lp1-und-lp1-aufgelegt-runde-3/
LOCATION:Freizeit- und Dienstsportzentrum PSV Wien\, Dampfschiffhaufen 2\, Wien\, 1220\, Österreich
CATEGORIES:LP1,offener Bewerb
END:VEVENT
BEGIN:VEVENT
DTSTART;TZID=Europe/Berlin:20241113T170000
DTEND;TZID=Europe/Berlin:20241113T213000
DTSTAMP:20260421T221613
CREATED:20241013T100409Z
LAST-MODIFIED:20241013T100409Z
UID:10000449-1731517200-1731533400@psvwiensportschiessen.at
SUMMARY:ASKÖ LP5 Cup 2024 Runde 2
DESCRIPTION:Ausschreibung LP5 Cup 2024
URL:https://psvwiensportschiessen.at/event/askoe-lp5-cup-2024-runde-2/
LOCATION:Freizeit- und Dienstsportzentrum PSV Wien\, Dampfschiffhaufen 2\, Wien\, 1220\, Österreich
CATEGORIES:LP5,offener Bewerb
END:VEVENT
BEGIN:VEVENT
DTSTART;TZID=Europe/Berlin:20241111T150000
DTEND;TZID=Europe/Berlin:20241111T210000
DTSTAMP:20260421T221613
CREATED:20241101T211450Z
LAST-MODIFIED:20241101T211450Z
UID:10000453-1731337200-1731358800@psvwiensportschiessen.at
SUMMARY:PSV Faschingsschießen Luftpistole
DESCRIPTION:
URL:https://psvwiensportschiessen.at/event/psv-faschingsschiessen-luftpistole/
LOCATION:Freizeit- und Dienstsportzentrum PSV Wien\, Dampfschiffhaufen 2\, Wien\, 1220\, Österreich
CATEGORIES:Luftpistole,vereinsinterner Bewerb
END:VEVENT
BEGIN:VEVENT
DTSTART;TZID=Europe/Berlin:20241102T100000
DTEND;TZID=Europe/Berlin:20241102T150000
DTSTAMP:20260421T221613
CREATED:20240903T143016Z
LAST-MODIFIED:20240903T143016Z
UID:10000430-1730541600-1730559600@psvwiensportschiessen.at
SUMMARY:Vereinsmeisterschaft LP1 und LP1 Auflage
DESCRIPTION:Vereinsmeisterschaft_LP1_LP1Auflage2024
URL:https://psvwiensportschiessen.at/event/vereinsmeisterschaft-lp1-und-lp1-auflage/
LOCATION:Freizeit- und Dienstsportzentrum PSV Wien\, Dampfschiffhaufen 2\, Wien\, 1220\, Österreich
CATEGORIES:LP1,Luftpistole
END:VEVENT
BEGIN:VEVENT
DTSTART;TZID=Europe/Berlin:20241031T180000
DTEND;TZID=Europe/Berlin:20241031T210000
DTSTAMP:20260421T221613
CREATED:20241002T200251Z
LAST-MODIFIED:20241003T062711Z
UID:10000434-1730397600-1730408400@psvwiensportschiessen.at
SUMMARY:Vereinsabend Oktober
DESCRIPTION:
URL:https://psvwiensportschiessen.at/event/vereinsabend-oktober-2/
LOCATION:Freizeit- und Dienstsportzentrum PSV Wien\, Dampfschiffhaufen 2\, Wien\, 1220\, Österreich
CATEGORIES:vereinsinterne Veranstaltung (kein Bewerb)
END:VEVENT
BEGIN:VEVENT
DTSTART;TZID=Europe/Berlin:20241030T160000
DTEND;TZID=Europe/Berlin:20241030T213000
DTSTAMP:20260421T221613
CREATED:20241013T102141Z
LAST-MODIFIED:20241013T102141Z
UID:10000451-1730304000-1730323800@psvwiensportschiessen.at
SUMMARY:SSLV Wien Rundenwettkämpfe LP1 und LP1 aufgelegt Runde 2 (in Runde 1 hat PSV Pause)
DESCRIPTION:Ausschreibung RWK LP1_ LP1 aufgelegt 2024_25
URL:https://psvwiensportschiessen.at/event/sslv-wien-rundenwettkaempfe-lp1-und-lp1-aufgelegt-runde-2-in-runde-1-hat-psv-pause/
LOCATION:Freizeit- und Dienstsportzentrum PSV Wien\, Dampfschiffhaufen 2\, Wien\, 1220\, Österreich
CATEGORIES:LP1,offener Bewerb
END:VEVENT
BEGIN:VEVENT
DTSTART;TZID=Europe/Berlin:20240925T180000
DTEND;TZID=Europe/Berlin:20240925T220000
DTSTAMP:20260421T221613
CREATED:20240901T110255Z
LAST-MODIFIED:20240901T110255Z
UID:10000429-1727287200-1727301600@psvwiensportschiessen.at
SUMMARY:Kurt Kornfeld Gedenkschießen LP1 und LP1 Auflage
DESCRIPTION:KurtKornfeldGedenkschießenLP_20240901
URL:https://psvwiensportschiessen.at/event/kurt-kornfeld-gedenkschiessen-lp1-und-lp1-auflage/
LOCATION:Freizeit- und Dienstsportzentrum PSV Wien\, Dampfschiffhaufen 2\, Wien\, 1220\, Österreich
CATEGORIES:LP1,Luftpistole,vereinsinterner Bewerb
END:VEVENT
BEGIN:VEVENT
DTSTART;TZID=Europe/Berlin:20240918T180000
DTEND;TZID=Europe/Berlin:20240918T210000
DTSTAMP:20260421T221613
CREATED:20241002T200214Z
LAST-MODIFIED:20241002T200214Z
UID:10000433-1726682400-1726693200@psvwiensportschiessen.at
SUMMARY:Vereinsabend September
DESCRIPTION:
URL:https://psvwiensportschiessen.at/event/vereinsabend-september/
LOCATION:Freizeit- und Dienstsportzentrum PSV Wien\, Dampfschiffhaufen 2\, Wien\, 1220\, Österreich
CATEGORIES:vereinsinterne Veranstaltung (kein Bewerb)
END:VEVENT
BEGIN:VEVENT
DTSTART;TZID=Europe/Berlin:20240918T170000
DTEND;TZID=Europe/Berlin:20240918T220000
DTSTAMP:20260421T221613
CREATED:20240205T212904Z
LAST-MODIFIED:20240508T085923Z
UID:10000358-1726678800-1726696800@psvwiensportschiessen.at
SUMMARY:Offener PSV Sommercup 2024 LP1 stehend frei Tag 5
DESCRIPTION:Offener PSV Sommercup Luftpistole 2024
URL:https://psvwiensportschiessen.at/event/offener-psv-sommercup-2024-lp1-stehend-frei-und-auflage-tag-5/
LOCATION:Freizeit- und Dienstsportzentrum PSV Wien\, Dampfschiffhaufen 2\, Wien\, 1220\, Österreich
CATEGORIES:LP1,Luftpistole,offener Bewerb
END:VEVENT
BEGIN:VEVENT
DTSTART;TZID=Europe/Berlin:20240827T180000
DTEND;TZID=Europe/Berlin:20240827T220000
DTSTAMP:20260421T221613
CREATED:20240731T112455Z
LAST-MODIFIED:20240731T112455Z
UID:10000428-1724781600-1724796000@psvwiensportschiessen.at
SUMMARY:Vereinsabend August
DESCRIPTION:
URL:https://psvwiensportschiessen.at/event/vereinsabend-august/
LOCATION:Freizeit- und Dienstsportzentrum PSV Wien\, Dampfschiffhaufen 2\, Wien\, 1220\, Österreich
CATEGORIES:vereinsinterne Veranstaltung (kein Bewerb)
END:VEVENT
BEGIN:VEVENT
DTSTART;TZID=Europe/Berlin:20240821T170000
DTEND;TZID=Europe/Berlin:20240821T220000
DTSTAMP:20260421T221613
CREATED:20240205T212820Z
LAST-MODIFIED:20240508T085810Z
UID:10000357-1724259600-1724277600@psvwiensportschiessen.at
SUMMARY:Offener PSV Sommercup 2024 LP1 stehend frei Tag 4
DESCRIPTION:Offener PSV Sommercup Luftpistole 2024
URL:https://psvwiensportschiessen.at/event/offener-psv-sommercup-2024-lp1-stehend-frei-und-auflage-tag-4/
LOCATION:Freizeit- und Dienstsportzentrum PSV Wien\, Dampfschiffhaufen 2\, Wien\, 1220\, Österreich
CATEGORIES:LP1,Luftpistole,offener Bewerb
END:VEVENT
BEGIN:VEVENT
DTSTART;TZID=Europe/Berlin:20240717T170000
DTEND;TZID=Europe/Berlin:20240717T220000
DTSTAMP:20260421T221613
CREATED:20240205T212732Z
LAST-MODIFIED:20240508T085752Z
UID:10000356-1721235600-1721253600@psvwiensportschiessen.at
SUMMARY:Offener PSV Sommercup 2024 LP1 stehend frei Tag 3
DESCRIPTION:Offener PSV Sommercup Luftpistole 2024
URL:https://psvwiensportschiessen.at/event/offener-psv-sommercup-2024-lp1-stehend-frei-und-auflage-tag-3/
LOCATION:Freizeit- und Dienstsportzentrum PSV Wien\, Dampfschiffhaufen 2\, Wien\, 1220\, Österreich
CATEGORIES:LP1,Luftpistole,offener Bewerb
END:VEVENT
BEGIN:VEVENT
DTSTART;TZID=Europe/Berlin:20240716T180000
DTEND;TZID=Europe/Berlin:20240716T220000
DTSTAMP:20260421T221613
CREATED:20240731T112345Z
LAST-MODIFIED:20240731T112424Z
UID:10000427-1721152800-1721167200@psvwiensportschiessen.at
SUMMARY:Vereinsabend Juli
DESCRIPTION:
URL:https://psvwiensportschiessen.at/event/vereinsabend-juli/
LOCATION:Freizeit- und Dienstsportzentrum PSV Wien\, Dampfschiffhaufen 2\, Wien\, 1220\, Österreich
CATEGORIES:vereinsinterne Veranstaltung (kein Bewerb)
END:VEVENT
BEGIN:VEVENT
DTSTART;TZID=Europe/Berlin:20240612T170000
DTEND;TZID=Europe/Berlin:20240612T220000
DTSTAMP:20260421T221613
CREATED:20240205T212655Z
LAST-MODIFIED:20240508T085734Z
UID:10000355-1718211600-1718229600@psvwiensportschiessen.at
SUMMARY:Offener PSV Sommercup 2024 LP1 stehend frei Tag 2
DESCRIPTION:Offener PSV Sommercup Luftpistole 2024
URL:https://psvwiensportschiessen.at/event/offener-psv-sommercup-2024-lp1-stehend-frei-und-auflage-tag-2/
LOCATION:Freizeit- und Dienstsportzentrum PSV Wien\, Dampfschiffhaufen 2\, Wien\, 1220\, Österreich
CATEGORIES:LP1,Luftpistole,offener Bewerb
END:VEVENT
BEGIN:VEVENT
DTSTART;TZID=Europe/Berlin:20240604T180000
DTEND;TZID=Europe/Berlin:20240604T220000
DTSTAMP:20260421T221613
CREATED:20240731T112305Z
LAST-MODIFIED:20240731T112305Z
UID:10000426-1717524000-1717538400@psvwiensportschiessen.at
SUMMARY:Vereinsabend Juni
DESCRIPTION:
URL:https://psvwiensportschiessen.at/event/vereinsabend-juni/
LOCATION:Freizeit- und Dienstsportzentrum PSV Wien\, Dampfschiffhaufen 2\, Wien\, 1220\, Österreich
CATEGORIES:vereinsinterne Veranstaltung (kein Bewerb)
END:VEVENT
BEGIN:VEVENT
DTSTART;TZID=Europe/Berlin:20240522T170000
DTEND;TZID=Europe/Berlin:20240522T220000
DTSTAMP:20260421T221613
CREATED:20240205T212553Z
LAST-MODIFIED:20240508T085714Z
UID:10000354-1716397200-1716415200@psvwiensportschiessen.at
SUMMARY:Offener PSV Sommercup 2024 LP1 stehend frei Tag 1
DESCRIPTION:Offener PSV Sommercup Luftpistole 2024
URL:https://psvwiensportschiessen.at/event/offener-psv-sommercup-2024-lp1-stehend-frei-und-auflage-tag-1/
LOCATION:Freizeit- und Dienstsportzentrum PSV Wien\, Dampfschiffhaufen 2\, Wien\, 1220\, Österreich
CATEGORIES:LP1,Luftpistole,offener Bewerb
END:VEVENT
BEGIN:VEVENT
DTSTART;TZID=Europe/Berlin:20240514T180000
DTEND;TZID=Europe/Berlin:20240514T200000
DTSTAMP:20260421T221613
CREATED:20240128T123300Z
LAST-MODIFIED:20240128T123300Z
UID:10000337-1715709600-1715716800@psvwiensportschiessen.at
SUMMARY:Disziplinübergreifende Vereinsmeisterschaft LP/LG
DESCRIPTION:DÜVM2024
URL:https://psvwiensportschiessen.at/event/disziplinuebergreifende-vereinsmeisterschaft-lp-lg-3/
LOCATION:Freizeit- und Dienstsportzentrum PSV Wien\, Dampfschiffhaufen 2\, Wien\, 1220\, Österreich
CATEGORIES:LP1,Luftgewehr,Luftpistole,vereinsinterner Bewerb
END:VEVENT
BEGIN:VEVENT
DTSTART;TZID=Europe/Berlin:20240507T180000
DTEND;TZID=Europe/Berlin:20240507T230000
DTSTAMP:20260421T221613
CREATED:20240324T184617Z
LAST-MODIFIED:20240324T184617Z
UID:10000378-1715104800-1715122800@psvwiensportschiessen.at
SUMMARY:Vereinsabend Mai
DESCRIPTION:
URL:https://psvwiensportschiessen.at/event/vereinsabend-mai/
LOCATION:Freizeit- und Dienstsportzentrum PSV Wien\, Dampfschiffhaufen 2\, Wien\, 1220\, Österreich
CATEGORIES:vereinsinterne Veranstaltung (kein Bewerb)
END:VEVENT
BEGIN:VEVENT
DTSTART;TZID=Europe/Berlin:20240507T170000
DTEND;TZID=Europe/Berlin:20240507T190000
DTSTAMP:20260421T221613
CREATED:20240128T123133Z
LAST-MODIFIED:20240128T123544Z
UID:10000336-1715101200-1715108400@psvwiensportschiessen.at
SUMMARY:Disziplinübergreifende Vereinsmeisterschaft LP/LG
DESCRIPTION:DÜVM2024
URL:https://psvwiensportschiessen.at/event/disziplinuebergreifende-vereinsmeisterschaft-lp-lg-2/
LOCATION:Freizeit- und Dienstsportzentrum PSV Wien\, Dampfschiffhaufen 2\, Wien\, 1220\, Österreich
CATEGORIES:LP1,Luftgewehr,Luftpistole,vereinsinterner Bewerb
END:VEVENT
BEGIN:VEVENT
DTSTART;TZID=Europe/Berlin:20240409T180000
DTEND;TZID=Europe/Berlin:20240409T230000
DTSTAMP:20260421T221613
CREATED:20240324T184442Z
LAST-MODIFIED:20240324T184659Z
UID:10000377-1712685600-1712703600@psvwiensportschiessen.at
SUMMARY:Vereinsabend April
DESCRIPTION:
URL:https://psvwiensportschiessen.at/event/vereinsabend-april/
LOCATION:Freizeit- und Dienstsportzentrum PSV Wien\, Dampfschiffhaufen 2\, Wien\, 1220\, Österreich
CATEGORIES:vereinsinterne Veranstaltung (kein Bewerb)
END:VEVENT
BEGIN:VEVENT
DTSTART;TZID=Europe/Berlin:20240312T180000
DTEND;TZID=Europe/Berlin:20240312T220000
DTSTAMP:20260421T221613
CREATED:20240205T080319Z
LAST-MODIFIED:20240205T080328Z
UID:10000341-1710266400-1710280800@psvwiensportschiessen.at
SUMMARY:Vereinsabend März
DESCRIPTION:
URL:https://psvwiensportschiessen.at/event/vereinsabend-maerz/
LOCATION:Freizeit- und Dienstsportzentrum PSV Wien\, Dampfschiffhaufen 2\, Wien\, 1220\, Österreich
CATEGORIES:vereinsinterne Veranstaltung (kein Bewerb)
END:VEVENT
BEGIN:VEVENT
DTSTART;TZID=Europe/Berlin:20240309T090000
DTEND;TZID=Europe/Berlin:20240309T130000
DTSTAMP:20260421T221613
CREATED:20240226T061213Z
LAST-MODIFIED:20240226T061213Z
UID:10000370-1709974800-1709989200@psvwiensportschiessen.at
SUMMARY:PSV Schnellfeuerserienbewerb
DESCRIPTION:PSV_Schnellfeuerserienbewerb_20240309
URL:https://psvwiensportschiessen.at/event/psv-schnellfeuerserienbewerb-2/
LOCATION:Freizeit- und Dienstsportzentrum PSV Wien\, Dampfschiffhaufen 2\, Wien\, 1220\, Österreich
CATEGORIES:Faustfeuerwaffe Großkaliber (FFWGK),offener Bewerb
END:VEVENT
BEGIN:VEVENT
DTSTART;TZID=Europe/Berlin:20240306T170000
DTEND;TZID=Europe/Berlin:20240306T213000
DTSTAMP:20260421T221613
CREATED:20240217T060748Z
LAST-MODIFIED:20240217T062937Z
UID:10000368-1709744400-1709760600@psvwiensportschiessen.at
SUMMARY:SSLV Wien RWK LP1 und LP1 Auflage Runde 10 Mannschaft PSV2 / SAE
DESCRIPTION:Ausschreibung RWK LP1_ LP1 aufgelegt 2023_24
URL:https://psvwiensportschiessen.at/event/sslv-wien-rwk-lp1-und-lp1-auflage-runde-8-mannschaft-psv2-sae/
LOCATION:Freizeit- und Dienstsportzentrum PSV Wien\, Dampfschiffhaufen 2\, Wien\, 1220\, Österreich
CATEGORIES:LP1,Luftpistole,offener Bewerb
END:VEVENT
BEGIN:VEVENT
DTSTART;TZID=Europe/Berlin:20240222T173000
DTEND;TZID=Europe/Berlin:20240222T213000
DTSTAMP:20260421T221613
CREATED:20240217T060331Z
LAST-MODIFIED:20240217T060331Z
UID:10000367-1708623000-1708637400@psvwiensportschiessen.at
SUMMARY:SSLV Wien RWK LP1 und LP1 Auflage Runde 9 Mannschaft PSV1 / WSV
DESCRIPTION:Ausschreibung RWK LP1_ LP1 aufgelegt 2023_24
URL:https://psvwiensportschiessen.at/event/sslv-wien-rwk-lp1-und-lp1-auflage-runde-9-mannschaft-psv1-wsv/
LOCATION:Freizeit- und Dienstsportzentrum PSV Wien\, Dampfschiffhaufen 2\, Wien\, 1220\, Österreich
CATEGORIES:LP1,Luftpistole,offener Bewerb
END:VEVENT
BEGIN:VEVENT
DTSTART;TZID=Europe/Berlin:20240207T163000
DTEND;TZID=Europe/Berlin:20240207T220000
DTSTAMP:20260421T221613
CREATED:20240130T055712Z
LAST-MODIFIED:20240203T213441Z
UID:10000340-1707323400-1707343200@psvwiensportschiessen.at
SUMMARY:SSLV Wien RWK LP1 und LP1 Auflage Runde 8 Mannschaft PSV2 / CWP
DESCRIPTION:Ausschreibung RWK LP1_ LP1 aufgelegt 2023_24
URL:https://psvwiensportschiessen.at/event/sslv-wien-rwk-lp1-und-lp1-auflage-runde-8-mannschaft-2-cwp/
LOCATION:Freizeit- und Dienstsportzentrum PSV Wien\, Dampfschiffhaufen 2\, Wien\, 1220\, Österreich
CATEGORIES:LP1,Luftpistole
END:VEVENT
BEGIN:VEVENT
DTSTART;TZID=Europe/Berlin:20240206T180000
DTEND;TZID=Europe/Berlin:20240206T220000
DTSTAMP:20260421T221613
CREATED:20240111T053146Z
LAST-MODIFIED:20240111T053146Z
UID:10000324-1707242400-1707256800@psvwiensportschiessen.at
SUMMARY:Vereinsabend Februar
DESCRIPTION:
URL:https://psvwiensportschiessen.at/event/vereinsabend-februar/
LOCATION:Freizeit- und Dienstsportzentrum PSV Wien\, Dampfschiffhaufen 2\, Wien\, 1220\, Österreich
CATEGORIES:vereinsinterne Veranstaltung (kein Bewerb)
END:VEVENT
END:VCALENDAR