BEGIN:VCALENDAR
VERSION:2.0
PRODID:-//PSV Wien Sektion Sportschießen - ECPv6.15.18//NONSGML v1.0//EN
CALSCALE:GREGORIAN
METHOD:PUBLISH
X-ORIGINAL-URL:https://psvwiensportschiessen.at
X-WR-CALDESC:Veranstaltungen für PSV Wien Sektion Sportschießen
REFRESH-INTERVAL;VALUE=DURATION:PT1H
X-Robots-Tag:noindex
X-PUBLISHED-TTL:PT1H
BEGIN:VTIMEZONE
TZID:Europe/Berlin
BEGIN:DAYLIGHT
TZOFFSETFROM:+0100
TZOFFSETTO:+0200
TZNAME:CEST
DTSTART:20230326T010000
END:DAYLIGHT
BEGIN:STANDARD
TZOFFSETFROM:+0200
TZOFFSETTO:+0100
TZNAME:CET
DTSTART:20231029T010000
END:STANDARD
BEGIN:DAYLIGHT
TZOFFSETFROM:+0100
TZOFFSETTO:+0200
TZNAME:CEST
DTSTART:20240331T010000
END:DAYLIGHT
BEGIN:STANDARD
TZOFFSETFROM:+0200
TZOFFSETTO:+0100
TZNAME:CET
DTSTART:20241027T010000
END:STANDARD
BEGIN:DAYLIGHT
TZOFFSETFROM:+0100
TZOFFSETTO:+0200
TZNAME:CEST
DTSTART:20250330T010000
END:DAYLIGHT
BEGIN:STANDARD
TZOFFSETFROM:+0200
TZOFFSETTO:+0100
TZNAME:CET
DTSTART:20251026T010000
END:STANDARD
BEGIN:DAYLIGHT
TZOFFSETFROM:+0100
TZOFFSETTO:+0200
TZNAME:CEST
DTSTART:20260329T010000
END:DAYLIGHT
BEGIN:STANDARD
TZOFFSETFROM:+0200
TZOFFSETTO:+0100
TZNAME:CET
DTSTART:20261025T010000
END:STANDARD
BEGIN:DAYLIGHT
TZOFFSETFROM:+0100
TZOFFSETTO:+0200
TZNAME:CEST
DTSTART:20270328T010000
END:DAYLIGHT
BEGIN:STANDARD
TZOFFSETFROM:+0200
TZOFFSETTO:+0100
TZNAME:CET
DTSTART:20271031T010000
END:STANDARD
END:VTIMEZONE
BEGIN:VEVENT
DTSTART;TZID=Europe/Berlin:20260224T150000
DTEND;TZID=Europe/Berlin:20260224T203000
DTSTAMP:20260420T123039
CREATED:20251129T194346Z
LAST-MODIFIED:20251209T061931Z
UID:10000607-1771945200-1771965000@psvwiensportschiessen.at
SUMMARY:ASKÖ Rundenwettkämpfe LG & LG Auflage 2026 / Runde 3
DESCRIPTION:Ausschreibung ASKÖ Sportschützen RWK 2026
URL:https://psvwiensportschiessen.at/event/askoe-rundenwettkaempfe-lg-2026-runde-3/
LOCATION:Schießstand des SSLV Wien\, Cumberlandstraße 102\, Wien\, 1140\, Österreich
CATEGORIES:Luftgewehr,offener Bewerb
END:VEVENT
BEGIN:VEVENT
DTSTART;TZID=Europe/Berlin:20260219T150000
DTEND;TZID=Europe/Berlin:20260219T210000
DTSTAMP:20260420T123039
CREATED:20251209T061245Z
LAST-MODIFIED:20251209T061813Z
UID:10000629-1771513200-1771534800@psvwiensportschiessen.at
SUMMARY:ASKÖ Rundenwettkämpfe LP1 / LP1 Auflage 2026 Runde 3
DESCRIPTION:Ausschreibung ASKÖ Sportschützen RWK 2026
URL:https://psvwiensportschiessen.at/event/askoe-rundenwettkaempfe-lp1-2026-runde-3/
LOCATION:Schießstand des SSLV Wien\, Cumberlandstraße 102\, Wien\, 1140\, Österreich
CATEGORIES:LP1,Luftpistole,offener Bewerb
END:VEVENT
BEGIN:VEVENT
DTSTART;TZID=Europe/Berlin:20260215T100000
DTEND;TZID=Europe/Berlin:20260215T123000
DTSTAMP:20260420T123039
CREATED:20251129T192513Z
LAST-MODIFIED:20251209T061802Z
UID:10000600-1771149600-1771158600@psvwiensportschiessen.at
SUMMARY:ASKÖ Rundenwettkämpfe LP1 / LP1 Auflage 2026 Runde 3 (Vorschießen)
DESCRIPTION:Ausschreibung ASKÖ Sportschützen RWK 2026
URL:https://psvwiensportschiessen.at/event/askoe-rundenwettkaempfe-lp1-lp1-auflage-2026-runde-3-vorschiessen/
LOCATION:Freizeit- und Dienstsportzentrum PSV Wien\, Dampfschiffhaufen 2\, Wien\, 1220\, Österreich
CATEGORIES:LP1,Luftpistole,offener Bewerb
END:VEVENT
BEGIN:VEVENT
DTSTART;TZID=Europe/Berlin:20260129T150000
DTEND;TZID=Europe/Berlin:20260129T210000
DTSTAMP:20260420T123039
CREATED:20251129T192910Z
LAST-MODIFIED:20251209T061844Z
UID:10000602-1769698800-1769720400@psvwiensportschiessen.at
SUMMARY:ASKÖ Rundenwettkämpfe LP1 / LP1 Auflage 2026 Runde 2
DESCRIPTION:Ausschreibung ASKÖ Sportschützen RWK 2026
URL:https://psvwiensportschiessen.at/event/askoe-rundenwettkaempfe-lp1-lp1-auflage-2026-runde-2/
LOCATION:Freizeit- und Dienstsportzentrum PSV Wien\, Dampfschiffhaufen 2\, Wien\, 1220\, Österreich
CATEGORIES:LP1,Luftpistole,offener Bewerb
END:VEVENT
BEGIN:VEVENT
DTSTART;TZID=Europe/Berlin:20260127T150000
DTEND;TZID=Europe/Berlin:20260127T203000
DTSTAMP:20260420T123039
CREATED:20251129T194111Z
LAST-MODIFIED:20251209T062025Z
UID:10000606-1769526000-1769545800@psvwiensportschiessen.at
SUMMARY:ASKÖ Rundenwettkämpfe LG & LG Auflage 2026 / Runde 2
DESCRIPTION:Ausschreibung ASKÖ Sportschützen RWK 2026
URL:https://psvwiensportschiessen.at/event/askoe-rundenwettkaempfe-lg-2026-runde-2/
LOCATION:Schießstand des SSLV Wien\, Cumberlandstraße 102\, Wien\, 1140\, Österreich
CATEGORIES:Luftgewehr,offener Bewerb
END:VEVENT
BEGIN:VEVENT
DTSTART;TZID=Europe/Berlin:20260125T100000
DTEND;TZID=Europe/Berlin:20260125T123000
DTSTAMP:20260420T123039
CREATED:20251129T192202Z
LAST-MODIFIED:20251209T061951Z
UID:10000598-1769335200-1769344200@psvwiensportschiessen.at
SUMMARY:ASKÖ Rundenwettkämpfe LP1 / LP1 Auflage 2026 Runde 2 (Vorschießen)
DESCRIPTION:Ausschreibung ASKÖ Sportschützen RWK 2026
URL:https://psvwiensportschiessen.at/event/askoe-rundenwettkaempfe-lp1-lp1-auflage-2026-runde-2-vorschiessen/
LOCATION:Freizeit- und Dienstsportzentrum PSV Wien\, Dampfschiffhaufen 2\, Wien\, 1220\, Österreich
CATEGORIES:LP1,Luftpistole,offener Bewerb
END:VEVENT
BEGIN:VEVENT
DTSTART;TZID=Europe/Berlin:20260113T150000
DTEND;TZID=Europe/Berlin:20260113T203000
DTSTAMP:20260420T123039
CREATED:20251129T190609Z
LAST-MODIFIED:20251209T062009Z
UID:10000596-1768316400-1768336200@psvwiensportschiessen.at
SUMMARY:ASKÖ Rundenwettkämpfe LG & LG Auflage 2026 / Runde 1
DESCRIPTION:Ausschreibung ASKÖ Sportschützen RWK 2026
URL:https://psvwiensportschiessen.at/event/askoe-rundenwettkaempfe-lp1-lp1-auflage-2026-runde-1/
LOCATION:Schießstand des SSLV Wien\, Cumberlandstraße 102\, Wien\, 1140\, Österreich
CATEGORIES:Luftgewehr,offener Bewerb
END:VEVENT
BEGIN:VEVENT
DTSTART;TZID=Europe/Berlin:20260108T150000
DTEND;TZID=Europe/Berlin:20260108T193000
DTSTAMP:20260420T123039
CREATED:20251129T193622Z
LAST-MODIFIED:20251209T062037Z
UID:10000603-1767884400-1767900600@psvwiensportschiessen.at
SUMMARY:ASKÖ Rundenwettkämpfe LP1 / LP1 Auflage 2026 Runde 1
DESCRIPTION:Ausschreibung ASKÖ Sportschützen RWK 2026
URL:https://psvwiensportschiessen.at/event/askoe-rundenwettkaempfe-lp1-lp1-auflage-2026-runde-1-2/
LOCATION:Schießstand des SSLV Wien\, Cumberlandstraße 102\, Wien\, 1140\, Österreich
CATEGORIES:LP1,Luftpistole,offener Bewerb
END:VEVENT
BEGIN:VEVENT
DTSTART;TZID=Europe/Berlin:20260104T100000
DTEND;TZID=Europe/Berlin:20260104T123000
DTSTAMP:20260420T123039
CREATED:20251129T190513Z
LAST-MODIFIED:20251209T062055Z
UID:10000595-1767520800-1767529800@psvwiensportschiessen.at
SUMMARY:ASKÖ Rundenwettkämpfe LP1 / LP1 Auflage 2026 Runde 1 (Vorschießen)
DESCRIPTION:Ausschreibung ASKÖ Sportschützen RWK 2026
URL:https://psvwiensportschiessen.at/event/askoe-rundenwettkaempfe-lp1-lp1-auflage-2026-runde-1-vorschiessen/
LOCATION:Freizeit- und Dienstsportzentrum PSV Wien\, Dampfschiffhaufen 2\, Wien\, 1220\, Österreich
CATEGORIES:LP1,Luftpistole,offener Bewerb
END:VEVENT
BEGIN:VEVENT
DTSTART;TZID=Europe/Berlin:20251203T160000
DTEND;TZID=Europe/Berlin:20251203T210000
DTSTAMP:20260420T123039
CREATED:20251014T044252Z
LAST-MODIFIED:20251129T191516Z
UID:10000576-1764777600-1764795600@psvwiensportschiessen.at
SUMMARY:ASKÖ LP5 Cup Runde 3 (mit anschließender Siegerehrung)
DESCRIPTION:Ausschreibung LP5 Cup 2025
URL:https://psvwiensportschiessen.at/event/askoe-lp5-cup-runde-3-mit-anschliessender-siegerehrung/
LOCATION:KSV Siemens Luftstand\, Heinrich-von-Boul-Gasse 3\, Wien\, 1210\, Österreich
CATEGORIES:LP5,Luftpistole,offener Bewerb
END:VEVENT
BEGIN:VEVENT
DTSTART;TZID=Europe/Berlin:20251112T170000
DTEND;TZID=Europe/Berlin:20251112T210000
DTSTAMP:20260420T123039
CREATED:20251014T044148Z
LAST-MODIFIED:20251014T044148Z
UID:10000575-1762966800-1762981200@psvwiensportschiessen.at
SUMMARY:ASKÖ LP5 Cup Runde 2
DESCRIPTION:Ausschreibung LP5 Cup 2025
URL:https://psvwiensportschiessen.at/event/askoe-lp5-cup-runde-2/
LOCATION:Freizeit- und Dienstsportzentrum PSV Wien\, Dampfschiffhaufen 2\, Wien\, 1220\, Österreich
CATEGORIES:LP5,Luftpistole,offener Bewerb
END:VEVENT
BEGIN:VEVENT
DTSTART;TZID=Europe/Berlin:20251022T160000
DTEND;TZID=Europe/Berlin:20251022T203000
DTSTAMP:20260420T123039
CREATED:20251014T044042Z
LAST-MODIFIED:20251014T044042Z
UID:10000574-1761148800-1761165000@psvwiensportschiessen.at
SUMMARY:ASKÖ LP5 Cup Runde 1
DESCRIPTION:Ausschreibung LP5 Cup 2025
URL:https://psvwiensportschiessen.at/event/askoe-lp5-cup-runde-1/
LOCATION:Schützenverein Alt Erlaa-Wien Gas\, Anton-Baumgartner-Straße 44/ Block A/5\, Wien\, 1230\, Österreich
CATEGORIES:LP5,Luftpistole,offener Bewerb
END:VEVENT
BEGIN:VEVENT
DTSTART;TZID=Europe/Berlin:20250517T110000
DTEND;TZID=Europe/Berlin:20250517T183000
DTSTAMP:20260420T123039
CREATED:20250530T060013Z
LAST-MODIFIED:20250530T060013Z
UID:10000543-1747479600-1747506600@psvwiensportschiessen.at
SUMMARY:offene ASKÖ Landesmeisterschaft 25m Pistole
DESCRIPTION:Ausschreibung ASKÖ LM 25mP 2025
URL:https://psvwiensportschiessen.at/event/offene-askoe-landesmeisterschaft-25m-pistole/
LOCATION:Schießsportzentrum Wien-Süßenbrunn\, Wielandweg 25\, Wien\, 1220\, Österreich
CATEGORIES:25m Pistole (ISSF),offener Bewerb
END:VEVENT
BEGIN:VEVENT
DTSTART;TZID=Europe/Berlin:20250427T080000
DTEND;TZID=Europe/Berlin:20250427T170000
DTSTAMP:20260420T123039
CREATED:20250313T060123Z
LAST-MODIFIED:20250313T060129Z
UID:10000521-1745740800-1745773200@psvwiensportschiessen.at
SUMMARY:ASKÖ Landesmeisterschaft Luftpistole 2025
DESCRIPTION:ASKÖ LM LG und LP 2025
URL:https://psvwiensportschiessen.at/event/askoe-landesmeisterschaft-luftpistole-2/
LOCATION:Schießstand des SSLV Wien\, Cumberlandstraße 102\, Wien\, 1140\, Österreich
CATEGORIES:LP1,offener Bewerb
END:VEVENT
BEGIN:VEVENT
DTSTART;VALUE=DATE:20250426
DTEND;VALUE=DATE:20250427
DTSTAMP:20260420T123039
CREATED:20250313T060028Z
LAST-MODIFIED:20250313T060028Z
UID:10000520-1745625600-1745711999@psvwiensportschiessen.at
SUMMARY:ASKÖ Landesmeisterschaft Luftgewehr 2025
DESCRIPTION:ASKÖ LM LG und LP 2025
URL:https://psvwiensportschiessen.at/event/askoe-landesmeisterschaft-luftgewehr-2025/
LOCATION:Schießstand des SSLV Wien\, Cumberlandstraße 102\, Wien\, 1140\, Österreich
CATEGORIES:Luftgewehr,offener Bewerb
END:VEVENT
BEGIN:VEVENT
DTSTART;TZID=Europe/Berlin:20250425T160000
DTEND;TZID=Europe/Berlin:20250425T210000
DTSTAMP:20260420T123039
CREATED:20250313T055230Z
LAST-MODIFIED:20250313T060147Z
UID:10000518-1745596800-1745614800@psvwiensportschiessen.at
SUMMARY:ASKÖ Landesmeisterschaft LP5 2025
DESCRIPTION:ASKÖ LM LP5 2025
URL:https://psvwiensportschiessen.at/event/askoe-landesmeisterschaft-lp5/
LOCATION:KSV Siemens Luftstand\, Heinrich-von-Boul-Gasse 3\, Wien\, 1210\, Österreich
CATEGORIES:LP5,offener Bewerb
END:VEVENT
BEGIN:VEVENT
DTSTART;TZID=Europe/Berlin:20250425T120000
DTEND;TZID=Europe/Berlin:20250425T160000
DTSTAMP:20260420T123039
CREATED:20250313T055641Z
LAST-MODIFIED:20250313T060203Z
UID:10000519-1745582400-1745596800@psvwiensportschiessen.at
SUMMARY:ASKÖ Landesmeisterschaft LP Auflage 2025
DESCRIPTION:ASKÖ LM LG und LP 2025
URL:https://psvwiensportschiessen.at/event/askoe-landesmeisterschaft-lp-auflage-2/
LOCATION:KSV Siemens Luftstand\, Heinrich-von-Boul-Gasse 3\, Wien\, 1210\, Österreich
CATEGORIES:Luftpistole,offener Bewerb
END:VEVENT
BEGIN:VEVENT
DTSTART;TZID=Europe/Berlin:20250313T150000
DTEND;TZID=Europe/Berlin:20250313T203000
DTSTAMP:20260420T123039
CREATED:20241213T221655Z
LAST-MODIFIED:20241213T221655Z
UID:10000468-1741878000-1741897800@psvwiensportschiessen.at
SUMMARY:ASKÖ Rundenwettkämpfe LP1 / LP1 Auflage 2025 Runde 4
DESCRIPTION:Ausschreibung_ASKOE_RUNDENWETTKÄMPFE 2025
URL:https://psvwiensportschiessen.at/event/askoe-rundenwettkaempfe-lp1-lp1-auflage-2025-runde-4/
LOCATION:Schießstand des SSLV Wien\, Cumberlandstraße 102\, Wien\, 1140\, Österreich
CATEGORIES:LP1,offener Bewerb
END:VEVENT
BEGIN:VEVENT
DTSTART;TZID=Europe/Berlin:20250220T150000
DTEND;TZID=Europe/Berlin:20250220T203000
DTSTAMP:20260420T123039
CREATED:20241213T221559Z
LAST-MODIFIED:20241213T221559Z
UID:10000467-1740063600-1740083400@psvwiensportschiessen.at
SUMMARY:ASKÖ Rundenwettkämpfe LP1 / LP1 Auflage 2025 Runde 3
DESCRIPTION:Ausschreibung_ASKOE_RUNDENWETTKÄMPFE 2025
URL:https://psvwiensportschiessen.at/event/askoe-rundenwettkaempfe-lp1-lp1-auflage-2025-runde-3/
LOCATION:Schießstand des SSLV Wien\, Cumberlandstraße 102\, Wien\, 1140\, Österreich
CATEGORIES:LP1,offener Bewerb
END:VEVENT
BEGIN:VEVENT
DTSTART;TZID=Europe/Berlin:20250130T150000
DTEND;TZID=Europe/Berlin:20250130T203000
DTSTAMP:20260420T123039
CREATED:20241213T221441Z
LAST-MODIFIED:20241213T221441Z
UID:10000466-1738249200-1738269000@psvwiensportschiessen.at
SUMMARY:ASKÖ Rundenwettkämpfe LP1 / LP1 Auflage 2025 Runde 2
DESCRIPTION:Ausschreibung_ASKOE_RUNDENWETTKÄMPFE 2025
URL:https://psvwiensportschiessen.at/event/askoe-rundenwettkaempfe-lp1-lp1-auflage-2025-runde-2/
LOCATION:Schießstand des SSLV Wien\, Cumberlandstraße 102\, Wien\, 1140\, Österreich
CATEGORIES:LP1,Luftpistole,offener Bewerb
END:VEVENT
BEGIN:VEVENT
DTSTART;TZID=Europe/Berlin:20250128T170000
DTEND;TZID=Europe/Berlin:20250128T203000
DTSTAMP:20260420T123039
CREATED:20241213T222008Z
LAST-MODIFIED:20241213T222008Z
UID:10000470-1738083600-1738096200@psvwiensportschiessen.at
SUMMARY:ASKÖ Rundenwettkämpfe Luftgewehr und LG Auflage 2025 Runde 2
DESCRIPTION:Ausschreibung_ASKOE_RUNDENWETTKÄMPFE 2025
URL:https://psvwiensportschiessen.at/event/askoe-rundenwettkaempfe-luftgewehr-und-lg-auflage-2025-runde-2/
LOCATION:Schießstand des SSLV Wien\, Cumberlandstraße 102\, Wien\, 1140\, Österreich
CATEGORIES:Luftgewehr
END:VEVENT
BEGIN:VEVENT
DTSTART;TZID=Europe/Berlin:20250109T150000
DTEND;TZID=Europe/Berlin:20250109T203000
DTSTAMP:20260420T123039
CREATED:20241213T221332Z
LAST-MODIFIED:20241213T221332Z
UID:10000465-1736434800-1736454600@psvwiensportschiessen.at
SUMMARY:ASKÖ Rundenwettkämpfe LP1 / LP1 Auflage 2025 Runde 1
DESCRIPTION:Ausschreibung_ASKOE_RUNDENWETTKÄMPFE 2025
URL:https://psvwiensportschiessen.at/event/askoe-rundenwettkaempfe-lp1-lp1-auflage-2025-runde-1/
LOCATION:Schießstand des SSLV Wien\, Cumberlandstraße 102\, Wien\, 1140\, Österreich
CATEGORIES:LP1,Luftpistole,offener Bewerb
END:VEVENT
BEGIN:VEVENT
DTSTART;TZID=Europe/Berlin:20250107T170000
DTEND;TZID=Europe/Berlin:20250107T203000
DTSTAMP:20260420T123040
CREATED:20241213T221918Z
LAST-MODIFIED:20241213T221918Z
UID:10000469-1736269200-1736281800@psvwiensportschiessen.at
SUMMARY:ASKÖ Rundenwettkämpfe Luftgewehr und LG Auflage 2025 Runde 1
DESCRIPTION:Ausschreibung_ASKOE_RUNDENWETTKÄMPFE 2025
URL:https://psvwiensportschiessen.at/event/askoe-rundenwettkaempfe-luftgewehr-und-lg-auflage-2025-runde-1/
LOCATION:Schießstand des SSLV Wien\, Cumberlandstraße 102\, Wien\, 1140\, Österreich
CATEGORIES:Luftgewehr
END:VEVENT
BEGIN:VEVENT
DTSTART;TZID=Europe/Berlin:20241204T160000
DTEND;TZID=Europe/Berlin:20241204T200000
DTSTAMP:20260420T123040
CREATED:20241013T100453Z
LAST-MODIFIED:20241106T051131Z
UID:10000450-1733328000-1733342400@psvwiensportschiessen.at
SUMMARY:ASKÖ LP5 Cup 2024 Runde 3
DESCRIPTION:Ausschreibung LP5 Cup 2024
URL:https://psvwiensportschiessen.at/event/askoe-lp5-cup-2024-runde-3/
LOCATION:KSV Siemens Luftstand\, Heinrich-von-Boul-Gasse 3\, Wien\, 1210\, Österreich
CATEGORIES:LP5,offener Bewerb
END:VEVENT
BEGIN:VEVENT
DTSTART;TZID=Europe/Berlin:20241113T170000
DTEND;TZID=Europe/Berlin:20241113T213000
DTSTAMP:20260420T123040
CREATED:20241013T100409Z
LAST-MODIFIED:20241013T100409Z
UID:10000449-1731517200-1731533400@psvwiensportschiessen.at
SUMMARY:ASKÖ LP5 Cup 2024 Runde 2
DESCRIPTION:Ausschreibung LP5 Cup 2024
URL:https://psvwiensportschiessen.at/event/askoe-lp5-cup-2024-runde-2/
LOCATION:Freizeit- und Dienstsportzentrum PSV Wien\, Dampfschiffhaufen 2\, Wien\, 1220\, Österreich
CATEGORIES:LP5,offener Bewerb
END:VEVENT
BEGIN:VEVENT
DTSTART;TZID=Europe/Berlin:20241022T160000
DTEND;TZID=Europe/Berlin:20241022T210000
DTSTAMP:20260420T123040
CREATED:20241013T100209Z
LAST-MODIFIED:20241013T100321Z
UID:10000448-1729612800-1729630800@psvwiensportschiessen.at
SUMMARY:ASKÖ LP5 Cup 2024 Runde 1
DESCRIPTION:Ausschreibung LP5 Cup 2024
URL:https://psvwiensportschiessen.at/event/askoe-lp5-cup-2024/
LOCATION:Schützenverein Alt Erlaa-Wien Gas\, Anton-Baumgartner-Straße 44/ Block A/5\, Wien\, 1230\, Österreich
CATEGORIES:LP5,offener Bewerb
END:VEVENT
BEGIN:VEVENT
DTSTART;TZID=Europe/Berlin:20240608T110000
DTEND;TZID=Europe/Berlin:20240608T180000
DTSTAMP:20260420T123040
CREATED:20240401T074932Z
LAST-MODIFIED:20240501T162330Z
UID:10000379-1717844400-1717869600@psvwiensportschiessen.at
SUMMARY:ASKÖ Landesmeisterschaft 25m Pistole
DESCRIPTION:ASKÖ-LANDESMEISTERSCHAFT 2024 25m Pistole
URL:https://psvwiensportschiessen.at/event/askoe-landesmeisterschaft-25m-pistole-geplant/
LOCATION:Schießsportzentrum Wien-Süßenbrunn\, Wielandweg 25\, Wien\, 1220\, Österreich
CATEGORIES:25m Pistole (ISSF),offener Bewerb
END:VEVENT
BEGIN:VEVENT
DTSTART;TZID=Europe/Berlin:20240414T090000
DTEND;TZID=Europe/Berlin:20240414T170000
DTSTAMP:20260420T123040
CREATED:20240304T152023Z
LAST-MODIFIED:20251130T085048Z
UID:10000373-1713085200-1713114000@psvwiensportschiessen.at
SUMMARY:ASKÖ Landesmeisterschaft LG und LG Auflage
DESCRIPTION:Ausschreibungen ASKÖ LM Luftwaffen 2024
URL:https://psvwiensportschiessen.at/event/askoe-landesmeisterschaft-lg-und-lg-auflage/
LOCATION:Schießstand des SSLV Wien\, Cumberlandstraße 102\, Wien\, 1140\, Österreich
CATEGORIES:Luftgewehr,offener Bewerb
END:VEVENT
BEGIN:VEVENT
DTSTART;TZID=Europe/Berlin:20240413T090000
DTEND;TZID=Europe/Berlin:20240413T170000
DTSTAMP:20260420T123040
CREATED:20240304T151947Z
LAST-MODIFIED:20251130T085129Z
UID:10000372-1712998800-1713027600@psvwiensportschiessen.at
SUMMARY:ASKÖ Landesmeisterschaft LP1
DESCRIPTION:Ausschreibungen ASKÖ LM Luftwaffen 2024
URL:https://psvwiensportschiessen.at/event/askoe-landesmeisterschaft-lp1/
LOCATION:Schießstand des SSLV Wien\, Cumberlandstraße 102\, Wien\, 1140\, Österreich
CATEGORIES:LP1,Luftpistole,offener Bewerb
END:VEVENT
BEGIN:VEVENT
DTSTART;TZID=Europe/Berlin:20240412T170000
DTEND;TZID=Europe/Berlin:20240412T210000
DTSTAMP:20260420T123040
CREATED:20240304T151749Z
LAST-MODIFIED:20251130T085149Z
UID:10000371-1712941200-1712955600@psvwiensportschiessen.at
SUMMARY:ASKÖ Landesmeisterschaft LP5 und LP1 Auflage
DESCRIPTION:Ausschreibungen ASKÖ LM Luftwaffen 2024
URL:https://psvwiensportschiessen.at/event/askoe-landesmeisterschaft-lp5-und-lp1-auflage/
LOCATION:KSV Siemens Luftstand\, Heinrich-von-Boul-Gasse 3\, Wien\, 1210\, Österreich
CATEGORIES:LP1,LP5,Luftpistole,offener Bewerb
END:VEVENT
END:VCALENDAR