BEGIN:VCALENDAR
VERSION:2.0
PRODID:-//PSV Wien Sektion Sportschießen - ECPv6.15.18//NONSGML v1.0//EN
CALSCALE:GREGORIAN
METHOD:PUBLISH
X-ORIGINAL-URL:https://psvwiensportschiessen.at
X-WR-CALDESC:Veranstaltungen für PSV Wien Sektion Sportschießen
REFRESH-INTERVAL;VALUE=DURATION:PT1H
X-Robots-Tag:noindex
X-PUBLISHED-TTL:PT1H
BEGIN:VTIMEZONE
TZID:Europe/Berlin
BEGIN:DAYLIGHT
TZOFFSETFROM:+0100
TZOFFSETTO:+0200
TZNAME:CEST
DTSTART:20210328T010000
END:DAYLIGHT
BEGIN:STANDARD
TZOFFSETFROM:+0200
TZOFFSETTO:+0100
TZNAME:CET
DTSTART:20211031T010000
END:STANDARD
BEGIN:DAYLIGHT
TZOFFSETFROM:+0100
TZOFFSETTO:+0200
TZNAME:CEST
DTSTART:20220327T010000
END:DAYLIGHT
BEGIN:STANDARD
TZOFFSETFROM:+0200
TZOFFSETTO:+0100
TZNAME:CET
DTSTART:20221030T010000
END:STANDARD
BEGIN:DAYLIGHT
TZOFFSETFROM:+0100
TZOFFSETTO:+0200
TZNAME:CEST
DTSTART:20230326T010000
END:DAYLIGHT
BEGIN:STANDARD
TZOFFSETFROM:+0200
TZOFFSETTO:+0100
TZNAME:CET
DTSTART:20231029T010000
END:STANDARD
BEGIN:DAYLIGHT
TZOFFSETFROM:+0100
TZOFFSETTO:+0200
TZNAME:CEST
DTSTART:20240331T010000
END:DAYLIGHT
BEGIN:STANDARD
TZOFFSETFROM:+0200
TZOFFSETTO:+0100
TZNAME:CET
DTSTART:20241027T010000
END:STANDARD
BEGIN:DAYLIGHT
TZOFFSETFROM:+0100
TZOFFSETTO:+0200
TZNAME:CEST
DTSTART:20250330T010000
END:DAYLIGHT
BEGIN:STANDARD
TZOFFSETFROM:+0200
TZOFFSETTO:+0100
TZNAME:CET
DTSTART:20251026T010000
END:STANDARD
END:VTIMEZONE
BEGIN:VEVENT
DTSTART;TZID=Europe/Berlin:20240319T150000
DTEND;TZID=Europe/Berlin:20240319T210000
DTSTAMP:20260421T030648
CREATED:20231005T202747Z
LAST-MODIFIED:20231005T202747Z
UID:10000290-1710860400-1710882000@psvwiensportschiessen.at
SUMMARY:ASKÖ Rundenwettkämpfe Luftgewehr Runde 4
DESCRIPTION:
URL:https://psvwiensportschiessen.at/event/askoe-rundenwettkaempfe-luftgewehr-runde-4/
LOCATION:Schießstand des SSLV Wien\, Cumberlandstraße 102\, Wien\, 1140\, Österreich
CATEGORIES:Luftgewehr,offener Bewerb
END:VEVENT
BEGIN:VEVENT
DTSTART;TZID=Europe/Berlin:20240229T170000
DTEND;TZID=Europe/Berlin:20240229T210000
DTSTAMP:20260421T030648
CREATED:20231005T203222Z
LAST-MODIFIED:20231205T115548Z
UID:10000294-1709226000-1709240400@psvwiensportschiessen.at
SUMMARY:ASKÖ Rundenwettkämpfe LP1 / LP 1 Auflage Runde 4
DESCRIPTION:ASKÖ RWK 2024 Ausschreibung
URL:https://psvwiensportschiessen.at/event/askoe-rundenwettkaempfe-lp1-lp-1-auflage-runde-4/
LOCATION:Schießstand des SSLV Wien\, Cumberlandstraße 102\, Wien\, 1140\, Österreich
CATEGORIES:LP1,Luftpistole,offener Bewerb
END:VEVENT
BEGIN:VEVENT
DTSTART;TZID=Europe/Berlin:20240208T170000
DTEND;TZID=Europe/Berlin:20240208T210000
DTSTAMP:20260421T030648
CREATED:20231005T203145Z
LAST-MODIFIED:20231205T115442Z
UID:10000293-1707411600-1707426000@psvwiensportschiessen.at
SUMMARY:ASKÖ Rundenwettkämpfe LP1 / LP 1 Auflage Runde 3
DESCRIPTION:ASKÖ RWK 2024 Ausschreibung
URL:https://psvwiensportschiessen.at/event/askoe-rundenwettkaempfe-lp1-lp-1-auflage-runde-3/
LOCATION:Schießstand des SSLV Wien\, Cumberlandstraße 102\, Wien\, 1140\, Österreich
CATEGORIES:LP1,Luftpistole,offener Bewerb
END:VEVENT
BEGIN:VEVENT
DTSTART;TZID=Europe/Berlin:20240206T150000
DTEND;TZID=Europe/Berlin:20240206T210000
DTSTAMP:20260421T030648
CREATED:20231005T202703Z
LAST-MODIFIED:20231205T115458Z
UID:10000289-1707231600-1707253200@psvwiensportschiessen.at
SUMMARY:ASKÖ Rundenwettkämpfe Luftgewehr Runde 3
DESCRIPTION:ASKÖ RWK 2024 Ausschreibung
URL:https://psvwiensportschiessen.at/event/askoe-rundenwettkaempfe-luftgewehr-runde-3/
LOCATION:Schießstand des SSLV Wien\, Cumberlandstraße 102\, Wien\, 1140\, Österreich
CATEGORIES:Luftgewehr,offener Bewerb
END:VEVENT
BEGIN:VEVENT
DTSTART;TZID=Europe/Berlin:20240125T170000
DTEND;TZID=Europe/Berlin:20240125T210000
DTSTAMP:20260421T030648
CREATED:20231005T203015Z
LAST-MODIFIED:20231205T115342Z
UID:10000292-1706202000-1706216400@psvwiensportschiessen.at
SUMMARY:ASKÖ Rundenwettkämpfe LP1 / LP 1 Auflage Runde 2
DESCRIPTION:ASKÖ RWK 2024 Ausschreibung
URL:https://psvwiensportschiessen.at/event/askoe-rundenwettkaempfe-luftpistole-runde-2/
LOCATION:Schießstand des SSLV Wien\, Cumberlandstraße 102\, Wien\, 1140\, Österreich
CATEGORIES:LP1,Luftpistole,offener Bewerb
END:VEVENT
BEGIN:VEVENT
DTSTART;TZID=Europe/Berlin:20240123T080000
DTEND;TZID=Europe/Berlin:20240123T170000
DTSTAMP:20260421T030648
CREATED:20231005T202557Z
LAST-MODIFIED:20231205T115326Z
UID:10000288-1705996800-1706029200@psvwiensportschiessen.at
SUMMARY:ASKÖ Rundenwettkämpfe Luftgewehr Runde 2
DESCRIPTION:ASKÖ RWK 2024 Ausschreibung
URL:https://psvwiensportschiessen.at/event/askoe-rundenwettkaempfe-luftgewehr-runde-2/
LOCATION:Schießstand des SSLV Wien\, Cumberlandstraße 102\, Wien\, 1140\, Österreich
CATEGORIES:Luftgewehr,offener Bewerb
END:VEVENT
BEGIN:VEVENT
DTSTART;TZID=Europe/Berlin:20240111T170000
DTEND;TZID=Europe/Berlin:20240111T210000
DTSTAMP:20260421T030648
CREATED:20231005T202917Z
LAST-MODIFIED:20231205T115259Z
UID:10000291-1704992400-1705006800@psvwiensportschiessen.at
SUMMARY:ASKÖ Rundenwettkämpfe LP1 / LP 1 Auflage Runde 1
DESCRIPTION:ASKÖ RWK 2024 Ausschreibung
URL:https://psvwiensportschiessen.at/event/askoe-rundenwettkaempfe-luftpistole-runde-1/
LOCATION:Schießstand des SSLV Wien\, Cumberlandstraße 102\, Wien\, 1140\, Österreich
CATEGORIES:LP1,Luftpistole,offener Bewerb
END:VEVENT
BEGIN:VEVENT
DTSTART;TZID=Europe/Berlin:20240109T150000
DTEND;TZID=Europe/Berlin:20240109T210000
DTSTAMP:20260421T030648
CREATED:20231005T202503Z
LAST-MODIFIED:20231205T115241Z
UID:10000287-1704812400-1704834000@psvwiensportschiessen.at
SUMMARY:ASKÖ Rundenwettkämpfe Luftgewehr Runde 1
DESCRIPTION:ASKÖ RWK 2024 Ausschreibung
URL:https://psvwiensportschiessen.at/event/askoe-rundenwettkaempfe-luftgewehr-runde-1-2/
LOCATION:Schießstand des SSLV Wien\, Cumberlandstraße 102\, Wien\, 1140\, Österreich
CATEGORIES:Luftgewehr,offener Bewerb
END:VEVENT
BEGIN:VEVENT
DTSTART;TZID=Europe/Berlin:20231212T160000
DTEND;TZID=Europe/Berlin:20231212T210000
DTSTAMP:20260421T030648
CREATED:20231005T202238Z
LAST-MODIFIED:20231009T160456Z
UID:10000286-1702396800-1702414800@psvwiensportschiessen.at
SUMMARY:ASKÖ LP5 Cup Runde 3 mit anschließender Siegerehrung
DESCRIPTION:Ausschreibung LP5 Cup 2023
URL:https://psvwiensportschiessen.at/event/askoe-lp5-runde-3-mit-anschliessender-siegerehrung/
LOCATION:KSV Siemens Luftstand\, Heinrich-von-Boul-Gasse 3\, Wien\, 1210\, Österreich
CATEGORIES:LP5,Luftpistole,offener Bewerb
END:VEVENT
BEGIN:VEVENT
DTSTART;TZID=Europe/Berlin:20231107T170000
DTEND;TZID=Europe/Berlin:20231107T210000
DTSTAMP:20260421T030648
CREATED:20231005T202145Z
LAST-MODIFIED:20231009T160521Z
UID:10000285-1699376400-1699390800@psvwiensportschiessen.at
SUMMARY:ASKÖ LP5 Cup Runde 2
DESCRIPTION:Ausschreibung LP5 Cup 2023
URL:https://psvwiensportschiessen.at/event/askoe-lp5-runde-2/
LOCATION:Freizeit- und Dienstsportzentrum PSV Wien\, Dampfschiffhaufen 2\, Wien\, 1220\, Österreich
CATEGORIES:LP5,Luftpistole,offener Bewerb
END:VEVENT
BEGIN:VEVENT
DTSTART;TZID=Europe/Berlin:20231017T170000
DTEND;TZID=Europe/Berlin:20231017T210000
DTSTAMP:20260421T030648
CREATED:20231005T202041Z
LAST-MODIFIED:20231009T160539Z
UID:10000284-1697562000-1697576400@psvwiensportschiessen.at
SUMMARY:ASKÖ LP5 Cup Runde 1
DESCRIPTION:Ausschreibung LP5 Cup 2023
URL:https://psvwiensportschiessen.at/event/askoe-lp5-runde-1/
LOCATION:Schützenverein Alt Erlaa-Wien Gas\, Anton-Baumgartner-Straße 44/ Block A/5\, Wien\, 1230\, Österreich
CATEGORIES:LP5,Luftpistole,offener Bewerb
END:VEVENT
BEGIN:VEVENT
DTSTART;VALUE=DATE:20230416
DTEND;VALUE=DATE:20230417
DTSTAMP:20260421T030648
CREATED:20220929T201223Z
LAST-MODIFIED:20230211T045747Z
UID:10000067-1681603200-1681689599@psvwiensportschiessen.at
SUMMARY:ASKÖ Landesmeisterschaft Luftgewehr
DESCRIPTION:Ausschreibung ASKÖ Landesmeisterschaften Sportschützen 2023
URL:https://psvwiensportschiessen.at/event/askoe-landesmeisterschaft-luftgewehr/
LOCATION:Schießstand des SSLV Wien\, Cumberlandstraße 102\, Wien\, 1140\, Österreich
CATEGORIES:Luftgewehr,offener Bewerb
END:VEVENT
BEGIN:VEVENT
DTSTART;VALUE=DATE:20230415
DTEND;VALUE=DATE:20230416
DTSTAMP:20260421T030648
CREATED:20220929T201153Z
LAST-MODIFIED:20230211T045806Z
UID:10000066-1681516800-1681603199@psvwiensportschiessen.at
SUMMARY:ASKÖ Landesmeisterschaft LP1/LP5
DESCRIPTION:Ausschreibung ASKÖ Landesmeisterschaften Sportschützen 2023
URL:https://psvwiensportschiessen.at/event/askoe-landesmeisterschaft-lp1-lp5/
LOCATION:Schießstand des SSLV Wien\, Cumberlandstraße 102\, Wien\, 1140\, Österreich
CATEGORIES:LP1,LP5,offener Bewerb
END:VEVENT
BEGIN:VEVENT
DTSTART;VALUE=DATE:20230414
DTEND;VALUE=DATE:20230415
DTSTAMP:20260421T030648
CREATED:20220929T201121Z
LAST-MODIFIED:20230211T045825Z
UID:10000065-1681430400-1681516799@psvwiensportschiessen.at
SUMMARY:ASKÖ Landesmeisterschaft LP Auflage
DESCRIPTION:Ausschreibung ASKÖ Landesmeisterschaften Sportschützen 2023
URL:https://psvwiensportschiessen.at/event/askoe-landesmeisterschaft-lp-auflage/
LOCATION:Schießstand des SSLV Wien\, Cumberlandstraße 102\, Wien\, 1140\, Österreich
CATEGORIES:LP1,offener Bewerb
END:VEVENT
BEGIN:VEVENT
DTSTART;TZID=Europe/Berlin:20230302T150000
DTEND;TZID=Europe/Berlin:20230302T210000
DTSTAMP:20260421T030648
CREATED:20220929T201038Z
LAST-MODIFIED:20230216T092141Z
UID:10000063-1677769200-1677790800@psvwiensportschiessen.at
SUMMARY:ASKÖ Rundenwettkampf LP1 Runde 4
DESCRIPTION:
URL:https://psvwiensportschiessen.at/event/askoe-rundenwettkampf-lp1-runde-4/
LOCATION:Schießstand des SSLV Wien\, Cumberlandstraße 102\, Wien\, 1140\, Österreich
CATEGORIES:LP1,offener Bewerb
END:VEVENT
BEGIN:VEVENT
DTSTART;TZID=Europe/Berlin:20230228T170000
DTEND;TZID=Europe/Berlin:20230228T210000
DTSTAMP:20260421T030648
CREATED:20220929T200745Z
LAST-MODIFIED:20230216T092207Z
UID:10000060-1677603600-1677618000@psvwiensportschiessen.at
SUMMARY:ASKÖ Rundenwettkampf Luftgewehr Runde 4
DESCRIPTION:
URL:https://psvwiensportschiessen.at/event/askoe-rundenwettkampf-luftgewehr-runde-4/
LOCATION:Schießstand des SSLV Wien\, Cumberlandstraße 102\, Wien\, 1140\, Österreich
CATEGORIES:Luftgewehr,offener Bewerb
END:VEVENT
BEGIN:VEVENT
DTSTART;TZID=Europe/Berlin:20230216T150000
DTEND;TZID=Europe/Berlin:20230216T210000
DTSTAMP:20260421T030648
CREATED:20220929T201014Z
LAST-MODIFIED:20230216T092725Z
UID:10000064-1676559600-1676581200@psvwiensportschiessen.at
SUMMARY:ASKÖ Rundenwettkampf LP1 Runde 3
DESCRIPTION:
URL:https://psvwiensportschiessen.at/event/askoe-rundenwettkampf-lp1-runde-3/
LOCATION:Schießstand des SSLV Wien\, Cumberlandstraße 102\, Wien\, 1140\, Österreich
CATEGORIES:LP1,offener Bewerb
END:VEVENT
BEGIN:VEVENT
DTSTART;TZID=Europe/Berlin:20230214T170000
DTEND;TZID=Europe/Berlin:20230214T210000
DTSTAMP:20260421T030648
CREATED:20220929T200704Z
LAST-MODIFIED:20230216T092334Z
UID:10000059-1676394000-1676408400@psvwiensportschiessen.at
SUMMARY:ASKÖ Rundenwettkampf Luftgewehr Runde 3
DESCRIPTION:
URL:https://psvwiensportschiessen.at/event/askoe-rundenwettkampf-luftgewehr-runde-3/
LOCATION:Schießstand des SSLV Wien\, Cumberlandstraße 102\, Wien\, 1140\, Österreich
CATEGORIES:Luftgewehr,offener Bewerb
END:VEVENT
BEGIN:VEVENT
DTSTART;TZID=Europe/Berlin:20230126T150000
DTEND;TZID=Europe/Berlin:20230126T210000
DTSTAMP:20260421T030648
CREATED:20220929T200949Z
LAST-MODIFIED:20220929T200949Z
UID:10000062-1674745200-1674766800@psvwiensportschiessen.at
SUMMARY:ASKÖ Rundenwettkampf LP1 Runde 2
DESCRIPTION:
URL:https://psvwiensportschiessen.at/event/askoe-rundenwettkampf-lp1-runde-2/
LOCATION:Schießstand des SSLV Wien\, Cumberlandstraße 102\, Wien\, 1140\, Österreich
CATEGORIES:LP1,offener Bewerb
END:VEVENT
BEGIN:VEVENT
DTSTART;TZID=Europe/Berlin:20230124T170000
DTEND;TZID=Europe/Berlin:20230124T210000
DTSTAMP:20260421T030648
CREATED:20220929T200547Z
LAST-MODIFIED:20230216T092307Z
UID:10000058-1674579600-1674594000@psvwiensportschiessen.at
SUMMARY:ASKÖ Rundenwettkampf Luftgewehr Runde 2
DESCRIPTION:
URL:https://psvwiensportschiessen.at/event/askoe-rundenwettkampf-luftgewehr-runde-2/
LOCATION:Schießstand des SSLV Wien\, Cumberlandstraße 102\, Wien\, 1140\, Österreich
CATEGORIES:Luftgewehr,offener Bewerb
END:VEVENT
BEGIN:VEVENT
DTSTART;TZID=Europe/Berlin:20230112T150000
DTEND;TZID=Europe/Berlin:20230112T210000
DTSTAMP:20260421T030648
CREATED:20220929T200858Z
LAST-MODIFIED:20220929T200858Z
UID:10000061-1673535600-1673557200@psvwiensportschiessen.at
SUMMARY:ASKÖ Rundenwettkampf LP1 Runde 1
DESCRIPTION:
URL:https://psvwiensportschiessen.at/event/askoe-rundenwettkampf-lp1-runde-1/
LOCATION:Schießstand des SSLV Wien\, Cumberlandstraße 102\, Wien\, 1140\, Österreich
CATEGORIES:LP1,offener Bewerb
END:VEVENT
BEGIN:VEVENT
DTSTART;TZID=Europe/Berlin:20230110T170000
DTEND;TZID=Europe/Berlin:20230110T210000
DTSTAMP:20260421T030648
CREATED:20220929T195911Z
LAST-MODIFIED:20230216T092527Z
UID:10000057-1673370000-1673384400@psvwiensportschiessen.at
SUMMARY:ASKÖ Rundenwettkampf Luftgewehr Runde 1
DESCRIPTION:
URL:https://psvwiensportschiessen.at/event/askoe-rundenwettkaempfe-luftgewehr-runde-1/
LOCATION:Schießstand des SSLV Wien\, Cumberlandstraße 102\, Wien\, 1140\, Österreich
CATEGORIES:Luftgewehr,offener Bewerb
END:VEVENT
BEGIN:VEVENT
DTSTART;TZID=Europe/Berlin:20221213T160000
DTEND;TZID=Europe/Berlin:20221213T200000
DTSTAMP:20260421T030648
CREATED:20220929T195717Z
LAST-MODIFIED:20221003T053405Z
UID:10000056-1670947200-1670961600@psvwiensportschiessen.at
SUMMARY:ASKÖ LP5 Cup Runde 3 (3-4 Durchgänge plus Siegerehrung)
DESCRIPTION:Ausschreibung ASKÖ LP5 Cup
URL:https://psvwiensportschiessen.at/event/askoe-lp5-cup-runde-3-3-4-durchgaenge-plus-siegerehrung/
LOCATION:KSV Siemens Luftstand\, Heinrich-von-Boul-Gasse 3\, Wien\, 1210\, Österreich
CATEGORIES:LP5,offener Bewerb
END:VEVENT
BEGIN:VEVENT
DTSTART;TZID=Europe/Berlin:20221108T170000
DTEND;TZID=Europe/Berlin:20221108T210000
DTSTAMP:20260421T030648
CREATED:20220929T195533Z
LAST-MODIFIED:20221005T104455Z
UID:10000055-1667926800-1667941200@psvwiensportschiessen.at
SUMMARY:ASKÖ LP5 Cup Runde 2 (3-4 Durchgänge)
DESCRIPTION:Ausschreibung ASKÖ LP5 Cup 2022
URL:https://psvwiensportschiessen.at/event/askoe-lp5-cup-runde-2-3-4-durchgaenge/
LOCATION:Schützenverein Alt Erlaa-Wien Gas\, Anton-Baumgartner-Straße 44/ Block A/5\, Wien\, 1230\, Österreich
CATEGORIES:LP5,offener Bewerb
END:VEVENT
BEGIN:VEVENT
DTSTART;TZID=Europe/Berlin:20221017T170000
DTEND;TZID=Europe/Berlin:20221017T210000
DTSTAMP:20260421T030648
CREATED:20220929T194308Z
LAST-MODIFIED:20221003T052927Z
UID:10000054-1666026000-1666040400@psvwiensportschiessen.at
SUMMARY:ASKÖ LP5 Cup Runde 1 (3-4 Durchgänge)
DESCRIPTION:Ausschreibung ASKÖ LP 5 Cup
URL:https://psvwiensportschiessen.at/event/askoe-lp5-cup-runde-1-3-4-durchgaenge/
LOCATION:Freizeit- und Dienstsportzentrum PSV Wien\, Dampfschiffhaufen 2\, Wien\, 1220\, Österreich
CATEGORIES:LP5,offener Bewerb
END:VEVENT
BEGIN:VEVENT
DTSTART;VALUE=DATE:20220410
DTEND;VALUE=DATE:20220411
DTSTAMP:20260421T030648
CREATED:20220214T114209Z
LAST-MODIFIED:20220814T161313Z
UID:10000035-1649548800-1649635199@psvwiensportschiessen.at
SUMMARY:ASKÖ Landesmeisterschaft Luftgewehr und Luftgewehr Auflage
DESCRIPTION:Ausschreibung_ASKÖ_LM_LPundLG_2022
URL:https://psvwiensportschiessen.at/event/askoe-landesmeisterschaft-luftgewehr-und-luftgewehr-auflage/
LOCATION:Schießstand des SSLV Wien\, Cumberlandstraße 102\, Wien\, 1140\, Österreich
CATEGORIES:Luftgewehr,Qualifikation erforderlich
END:VEVENT
BEGIN:VEVENT
DTSTART;VALUE=DATE:20220409
DTEND;VALUE=DATE:20220410
DTSTAMP:20260421T030648
CREATED:20220214T114034Z
LAST-MODIFIED:20220814T161214Z
UID:10000034-1649462400-1649548799@psvwiensportschiessen.at
SUMMARY:ASKÖ Landesmeisterschaft Luftpistole
DESCRIPTION:Ausschreibung_ASKÖ_LM_LPundLG_2022
URL:https://psvwiensportschiessen.at/event/askoe-landesmeisterschaft-luftpistole/
LOCATION:Schießstand des SSLV Wien\, Cumberlandstraße 102\, Wien\, 1140\, Österreich
CATEGORIES:Luftpistole,Qualifikation erforderlich
END:VEVENT
BEGIN:VEVENT
DTSTART;VALUE=DATE:20220408
DTEND;VALUE=DATE:20220409
DTSTAMP:20260421T030648
CREATED:20220214T113703Z
LAST-MODIFIED:20220814T161157Z
UID:10000033-1649376000-1649462399@psvwiensportschiessen.at
SUMMARY:ASKÖ Landesmeisterschaft Luftpistole aufgelegt
DESCRIPTION:Ausschreibung_ASKÖ_LM_LPundLG_2022
URL:https://psvwiensportschiessen.at/event/askoe-landesmeisterschaft-luftpistole-aufgelegt/
LOCATION:KSV Siemens Luftstand\, Heinrich-von-Boul-Gasse 3\, Wien\, 1210\, Österreich
CATEGORIES:Luftpistole,Qualifikation erforderlich
END:VEVENT
END:VCALENDAR