BEGIN:VCALENDAR
VERSION:2.0
PRODID:-//PSV Wien Sektion Sportschießen - ECPv6.15.18//NONSGML v1.0//EN
CALSCALE:GREGORIAN
METHOD:PUBLISH
X-WR-CALNAME:PSV Wien Sektion Sportschießen
X-ORIGINAL-URL:https://psvwiensportschiessen.at
X-WR-CALDESC:Veranstaltungen für PSV Wien Sektion Sportschießen
REFRESH-INTERVAL;VALUE=DURATION:PT1H
X-Robots-Tag:noindex
X-PUBLISHED-TTL:PT1H
BEGIN:VTIMEZONE
TZID:Europe/Berlin
BEGIN:DAYLIGHT
TZOFFSETFROM:+0100
TZOFFSETTO:+0200
TZNAME:CEST
DTSTART:20230326T010000
END:DAYLIGHT
BEGIN:STANDARD
TZOFFSETFROM:+0200
TZOFFSETTO:+0100
TZNAME:CET
DTSTART:20231029T010000
END:STANDARD
BEGIN:DAYLIGHT
TZOFFSETFROM:+0100
TZOFFSETTO:+0200
TZNAME:CEST
DTSTART:20240331T010000
END:DAYLIGHT
BEGIN:STANDARD
TZOFFSETFROM:+0200
TZOFFSETTO:+0100
TZNAME:CET
DTSTART:20241027T010000
END:STANDARD
BEGIN:DAYLIGHT
TZOFFSETFROM:+0100
TZOFFSETTO:+0200
TZNAME:CEST
DTSTART:20250330T010000
END:DAYLIGHT
BEGIN:STANDARD
TZOFFSETFROM:+0200
TZOFFSETTO:+0100
TZNAME:CET
DTSTART:20251026T010000
END:STANDARD
END:VTIMEZONE
BEGIN:VEVENT
DTSTART;TZID=Europe/Berlin:20240129T160000
DTEND;TZID=Europe/Berlin:20240129T210000
DTSTAMP:20260421T154141
CREATED:20240115T105639Z
LAST-MODIFIED:20240128T123726Z
UID:10000327-1706544000-1706562000@psvwiensportschiessen.at
SUMMARY:SSLV Wien Landeskaderqualifikation LP1 und LP1 Auflage - Runde 2
DESCRIPTION:LKQ 2024 LP1 und LP1 aufgelegt
URL:https://psvwiensportschiessen.at/event/sslv-wien-landeskaderqualifikation-lp1-und-lp1-auflage-runde-2/
LOCATION:KSV Siemens Luftstand\, Heinrich-von-Boul-Gasse 3\, Wien\, 1210\, Österreich
CATEGORIES:LP1,Luftpistole,offener Bewerb
END:VEVENT
BEGIN:VEVENT
DTSTART;TZID=Europe/Berlin:20240130T160000
DTEND;TZID=Europe/Berlin:20240130T213000
DTSTAMP:20260421T154141
CREATED:20240130T055246Z
LAST-MODIFIED:20240130T055805Z
UID:10000338-1706630400-1706650200@psvwiensportschiessen.at
SUMMARY:SSLV Wien RWK LP1 und LP1 Auflage Runde 7 Mannschaft PSV1 / USV21
DESCRIPTION:Ausschreibung RWK LP1_ LP1 aufgelegt 2023_24
URL:https://psvwiensportschiessen.at/event/sslv-wien-rwk-lp1-und-lp1-auflage-runde-7-mannschaft-1-usv21/
LOCATION:Freizeit- und Dienstsportzentrum PSV Wien\, Dampfschiffhaufen 2\, Wien\, 1220\, Österreich
CATEGORIES:LP1,Luftpistole,offener Bewerb
END:VEVENT
BEGIN:VEVENT
DTSTART;TZID=Europe/Berlin:20240131T160000
DTEND;TZID=Europe/Berlin:20240131T210000
DTSTAMP:20260421T154141
CREATED:20230919T210655Z
LAST-MODIFIED:20230919T210655Z
UID:10000278-1706716800-1706734800@psvwiensportschiessen.at
SUMMARY:SSLV Wien Rundenwettkämpfe LP5 Runde 4
DESCRIPTION:
URL:https://psvwiensportschiessen.at/event/sslv-wien-rundenwettkaempfe-lp5-runde-4/
LOCATION:Schützenverein Alt Erlaa-Wien Gas\, Anton-Baumgartner-Straße 44/ Block A/5\, Wien\, 1230\, Österreich
CATEGORIES:LP5,Luftpistole,offener Bewerb
END:VEVENT
BEGIN:VEVENT
DTSTART;TZID=Europe/Berlin:20240131T160000
DTEND;TZID=Europe/Berlin:20240131T210000
DTSTAMP:20260421T154141
CREATED:20230919T210931Z
LAST-MODIFIED:20230919T210931Z
UID:10000281-1706716800-1706734800@psvwiensportschiessen.at
SUMMARY:SSLV Wien Landeskaderqualifikation LP5 Runde 2
DESCRIPTION:
URL:https://psvwiensportschiessen.at/event/sslv-wien-landeskaderqualifikation-lp5-runde-2/
LOCATION:Schützenverein Alt Erlaa-Wien Gas\, Anton-Baumgartner-Straße 44/ Block A/5\, Wien\, 1230\, Österreich
CATEGORIES:LP5,Luftpistole,offener Bewerb
END:VEVENT
BEGIN:VEVENT
DTSTART;TZID=Europe/Berlin:20240203T090000
DTEND;TZID=Europe/Berlin:20240203T130000
DTSTAMP:20260421T154141
CREATED:20231030T174921Z
LAST-MODIFIED:20240115T101433Z
UID:10000308-1706950800-1706965200@psvwiensportschiessen.at
SUMMARY:offener PSV FFWGK Wintercup 2024 - Tag 3
DESCRIPTION:Ausschreibung_PSV_Wintercup_2024 \n 
URL:https://psvwiensportschiessen.at/event/offener-psv-ffwgk-wintercup-2024-tag-3/
LOCATION:Schießsportzentrum Wien-Süßenbrunn\, Wielandweg 25\, Wien\, 1220\, Österreich
CATEGORIES:Faustfeuerwaffe Großkaliber (FFWGK),offener Bewerb
END:VEVENT
END:VCALENDAR