BEGIN:VCALENDAR
VERSION:2.0
PRODID:-//PSV Wien Sektion Sportschießen - ECPv6.15.18//NONSGML v1.0//EN
CALSCALE:GREGORIAN
METHOD:PUBLISH
X-ORIGINAL-URL:https://psvwiensportschiessen.at
X-WR-CALDESC:Veranstaltungen für PSV Wien Sektion Sportschießen
REFRESH-INTERVAL;VALUE=DURATION:PT1H
X-Robots-Tag:noindex
X-PUBLISHED-TTL:PT1H
BEGIN:VTIMEZONE
TZID:Europe/Berlin
BEGIN:DAYLIGHT
TZOFFSETFROM:+0100
TZOFFSETTO:+0200
TZNAME:CEST
DTSTART:20220327T010000
END:DAYLIGHT
BEGIN:STANDARD
TZOFFSETFROM:+0200
TZOFFSETTO:+0100
TZNAME:CET
DTSTART:20221030T010000
END:STANDARD
BEGIN:DAYLIGHT
TZOFFSETFROM:+0100
TZOFFSETTO:+0200
TZNAME:CEST
DTSTART:20230326T010000
END:DAYLIGHT
BEGIN:STANDARD
TZOFFSETFROM:+0200
TZOFFSETTO:+0100
TZNAME:CET
DTSTART:20231029T010000
END:STANDARD
BEGIN:DAYLIGHT
TZOFFSETFROM:+0100
TZOFFSETTO:+0200
TZNAME:CEST
DTSTART:20240331T010000
END:DAYLIGHT
BEGIN:STANDARD
TZOFFSETFROM:+0200
TZOFFSETTO:+0100
TZNAME:CET
DTSTART:20241027T010000
END:STANDARD
END:VTIMEZONE
BEGIN:VEVENT
DTSTART;TZID=Europe/Berlin:20231128T183000
DTEND;TZID=Europe/Berlin:20231128T213000
DTSTAMP:20260422T010723
CREATED:20231103T090012Z
LAST-MODIFIED:20231103T090012Z
UID:10000314-1701196200-1701207000@psvwiensportschiessen.at
SUMMARY:SSLV Wien RWK LP1 und LP1 Auflage Runde 4 Mannschaft PSV1 und Einzel / WSV
DESCRIPTION:Ausschreibung RWK LP1_ LP1 aufgelegt 2023_24
URL:https://psvwiensportschiessen.at/event/sslv-wien-rwk-lp1-und-lp1-auflage-runde-4-mannschaft-psv1-und-einzel-wsv/
LOCATION:Wiener Schützenverein\, Richtergasse 1a\, Wien\, 1070\, Österreich
CATEGORIES:LP1,Luftpistole,offener Bewerb
END:VEVENT
BEGIN:VEVENT
DTSTART;TZID=Europe/Berlin:20231202T090000
DTEND;TZID=Europe/Berlin:20231202T130000
DTSTAMP:20260422T010723
CREATED:20230117T112314Z
LAST-MODIFIED:20230117T112314Z
UID:10000152-1701507600-1701522000@psvwiensportschiessen.at
SUMMARY:Krampusschießen
DESCRIPTION:
URL:https://psvwiensportschiessen.at/event/krampusschiessen/
LOCATION:Schießsportzentrum Wien-Süßenbrunn\, Wielandweg 25\, Wien\, 1220\, Österreich
CATEGORIES:Faustfeuerwaffe Großkaliber (FFWGK),Kleinkaliber (.22),offener Bewerb
END:VEVENT
END:VCALENDAR