BEGIN:VCALENDAR
VERSION:2.0
PRODID:-//PSV Wien Sektion Sportschießen - ECPv6.15.18//NONSGML v1.0//EN
CALSCALE:GREGORIAN
METHOD:PUBLISH
X-ORIGINAL-URL:https://psvwiensportschiessen.at
X-WR-CALDESC:Veranstaltungen für PSV Wien Sektion Sportschießen
REFRESH-INTERVAL;VALUE=DURATION:PT1H
X-Robots-Tag:noindex
X-PUBLISHED-TTL:PT1H
BEGIN:VTIMEZONE
TZID:Europe/Berlin
BEGIN:DAYLIGHT
TZOFFSETFROM:+0100
TZOFFSETTO:+0200
TZNAME:CEST
DTSTART:20220327T010000
END:DAYLIGHT
BEGIN:STANDARD
TZOFFSETFROM:+0200
TZOFFSETTO:+0100
TZNAME:CET
DTSTART:20221030T010000
END:STANDARD
BEGIN:DAYLIGHT
TZOFFSETFROM:+0100
TZOFFSETTO:+0200
TZNAME:CEST
DTSTART:20230326T010000
END:DAYLIGHT
BEGIN:STANDARD
TZOFFSETFROM:+0200
TZOFFSETTO:+0100
TZNAME:CET
DTSTART:20231029T010000
END:STANDARD
BEGIN:DAYLIGHT
TZOFFSETFROM:+0100
TZOFFSETTO:+0200
TZNAME:CEST
DTSTART:20240331T010000
END:DAYLIGHT
BEGIN:STANDARD
TZOFFSETFROM:+0200
TZOFFSETTO:+0100
TZNAME:CET
DTSTART:20241027T010000
END:STANDARD
END:VTIMEZONE
BEGIN:VEVENT
DTSTART;TZID=Europe/Berlin:20231106T170000
DTEND;TZID=Europe/Berlin:20231106T220000
DTSTAMP:20260422T093352
CREATED:20231017T122719Z
LAST-MODIFIED:20231017T122727Z
UID:10000301-1699290000-1699308000@psvwiensportschiessen.at
SUMMARY:SSLV Wien RWK LP1 und LP1 Auflage Runde 2 Mannschaft PSV1 und Einzel / USV21
DESCRIPTION:Ausschreibung RWK LP1_ LP1 aufgelegt 2023_24
URL:https://psvwiensportschiessen.at/event/sslv-wien-rwk-lp1-und-lp1-auflage-runde-3-mannschaft-psv1-und-einzel-usv21/
LOCATION:USV 21  –  Union Floridsdorfer Sportschützen\, Jedlersdorferstraße 121\, Wien\, 1210\, Österreich
CATEGORIES:LP1,Luftpistole,offener Bewerb
END:VEVENT
BEGIN:VEVENT
DTSTART;TZID=Europe/Berlin:20231107T170000
DTEND;TZID=Europe/Berlin:20231107T210000
DTSTAMP:20260422T093352
CREATED:20231005T202145Z
LAST-MODIFIED:20231009T160521Z
UID:10000285-1699376400-1699390800@psvwiensportschiessen.at
SUMMARY:ASKÖ LP5 Cup Runde 2
DESCRIPTION:Ausschreibung LP5 Cup 2023
URL:https://psvwiensportschiessen.at/event/askoe-lp5-runde-2/
LOCATION:Freizeit- und Dienstsportzentrum PSV Wien\, Dampfschiffhaufen 2\, Wien\, 1220\, Österreich
CATEGORIES:LP5,Luftpistole,offener Bewerb
END:VEVENT
BEGIN:VEVENT
DTSTART;TZID=Europe/Berlin:20231108T170000
DTEND;TZID=Europe/Berlin:20231108T213000
DTSTAMP:20260422T093352
CREATED:20231101T175510Z
LAST-MODIFIED:20251130T085749Z
UID:10000313-1699462800-1699479000@psvwiensportschiessen.at
SUMMARY:SSLV Wien RWK LP1 und LP1 Auflage Runde 3 Mannschaft PSV2 und Einzel / CWP
DESCRIPTION:Ausschreibung RWK LP1_ LP1 aufgelegt 2023_24
URL:https://psvwiensportschiessen.at/event/sslv-wien-rwk-lp1-und-lp1-auflage-runde-3-mannschaft-psv2-und-einzel-cwp/
LOCATION:Freizeit- und Dienstsportzentrum PSV Wien\, Dampfschiffhaufen 2\, Wien\, 1220\, Österreich
CATEGORIES:LP1,Luftpistole,offener Bewerb
END:VEVENT
BEGIN:VEVENT
DTSTART;TZID=Europe/Berlin:20231109T170000
DTEND;TZID=Europe/Berlin:20231109T213000
DTSTAMP:20260422T093352
CREATED:20231016T134118Z
LAST-MODIFIED:20231016T194946Z
UID:10000300-1699549200-1699565400@psvwiensportschiessen.at
SUMMARY:SSLV Wien RWK LP1 und LP1 Auflage Runde 2 Mannschaft PSV2 und Einzel / BBSV2
DESCRIPTION:Ausschreibung RWK LP1_ LP1 aufgelegt 2023_24
URL:https://psvwiensportschiessen.at/event/sslv-wien-rwk-lp1-und-lp1-auflage-mannschaft-2-und-einzel-bbsv2/
LOCATION:Schießstand des SSLV Wien\, Cumberlandstraße 102\, Wien\, 1140\, Österreich
CATEGORIES:LP1,Luftpistole,offener Bewerb
END:VEVENT
END:VCALENDAR