BEGIN:VCALENDAR
VERSION:2.0
PRODID:-//PSV Wien Sektion Sportschießen - ECPv6.15.18//NONSGML v1.0//EN
CALSCALE:GREGORIAN
METHOD:PUBLISH
X-WR-CALNAME:PSV Wien Sektion Sportschießen
X-ORIGINAL-URL:https://psvwiensportschiessen.at
X-WR-CALDESC:Veranstaltungen für PSV Wien Sektion Sportschießen
REFRESH-INTERVAL;VALUE=DURATION:PT1H
X-Robots-Tag:noindex
X-PUBLISHED-TTL:PT1H
BEGIN:VTIMEZONE
TZID:Europe/Berlin
BEGIN:DAYLIGHT
TZOFFSETFROM:+0100
TZOFFSETTO:+0200
TZNAME:CEST
DTSTART:20220327T010000
END:DAYLIGHT
BEGIN:STANDARD
TZOFFSETFROM:+0200
TZOFFSETTO:+0100
TZNAME:CET
DTSTART:20221030T010000
END:STANDARD
BEGIN:DAYLIGHT
TZOFFSETFROM:+0100
TZOFFSETTO:+0200
TZNAME:CEST
DTSTART:20230326T010000
END:DAYLIGHT
BEGIN:STANDARD
TZOFFSETFROM:+0200
TZOFFSETTO:+0100
TZNAME:CET
DTSTART:20231029T010000
END:STANDARD
BEGIN:DAYLIGHT
TZOFFSETFROM:+0100
TZOFFSETTO:+0200
TZNAME:CEST
DTSTART:20240331T010000
END:DAYLIGHT
BEGIN:STANDARD
TZOFFSETFROM:+0200
TZOFFSETTO:+0100
TZNAME:CET
DTSTART:20241027T010000
END:STANDARD
END:VTIMEZONE
BEGIN:VEVENT
DTSTART;TZID=Europe/Berlin:20231031T180000
DTEND;TZID=Europe/Berlin:20231031T220000
DTSTAMP:20260423T212606
CREATED:20230805T183747Z
LAST-MODIFIED:20230805T183747Z
UID:10000268-1698775200-1698789600@psvwiensportschiessen.at
SUMMARY:Vereinsabend Oktober
DESCRIPTION:
URL:https://psvwiensportschiessen.at/event/vereinsabend-oktober/
LOCATION:Freizeit- und Dienstsportzentrum PSV Wien\, Dampfschiffhaufen 2\, Wien\, 1220\, Österreich
CATEGORIES:vereinsinterne Veranstaltung (kein Bewerb)
END:VEVENT
BEGIN:VEVENT
DTSTART;TZID=Europe/Berlin:20231104T090000
DTEND;TZID=Europe/Berlin:20231104T110000
DTSTAMP:20260423T212606
CREATED:20230117T111923Z
LAST-MODIFIED:20231101T175331Z
UID:10000150-1699088400-1699095600@psvwiensportschiessen.at
SUMMARY:Taschenwaffenbewerb
DESCRIPTION:
URL:https://psvwiensportschiessen.at/event/taschenwaffenbewerb/
LOCATION:Schießsportzentrum Wien-Süßenbrunn\, Wielandweg 25\, Wien\, 1220\, Österreich
CATEGORIES:Faustfeuerwaffe Großkaliber (FFWGK),Kleinkaliber (.22),offener Bewerb
END:VEVENT
BEGIN:VEVENT
DTSTART;TZID=Europe/Berlin:20231104T120000
DTEND;TZID=Europe/Berlin:20231104T130000
DTSTAMP:20260423T212606
CREATED:20231011T201536Z
LAST-MODIFIED:20231101T175258Z
UID:10000297-1699099200-1699102800@psvwiensportschiessen.at
SUMMARY:Vereinsmeisterschaft FFWGK
DESCRIPTION:VM_FFWGK_2023
URL:https://psvwiensportschiessen.at/event/vereinsmeisterschaft-ffwgk-2/
LOCATION:Schießsportzentrum Wien-Süßenbrunn\, Wielandweg 25\, Wien\, 1220\, Österreich
CATEGORIES:Faustfeuerwaffe Großkaliber (FFWGK),vereinsinterner Bewerb
END:VEVENT
END:VCALENDAR