BEGIN:VCALENDAR
VERSION:2.0
PRODID:-//PSV Wien Sektion Sportschießen - ECPv6.15.18//NONSGML v1.0//EN
CALSCALE:GREGORIAN
METHOD:PUBLISH
X-ORIGINAL-URL:https://psvwiensportschiessen.at
X-WR-CALDESC:Veranstaltungen für PSV Wien Sektion Sportschießen
REFRESH-INTERVAL;VALUE=DURATION:PT1H
X-Robots-Tag:noindex
X-PUBLISHED-TTL:PT1H
BEGIN:VTIMEZONE
TZID:Europe/Berlin
BEGIN:DAYLIGHT
TZOFFSETFROM:+0100
TZOFFSETTO:+0200
TZNAME:CEST
DTSTART:20220327T010000
END:DAYLIGHT
BEGIN:STANDARD
TZOFFSETFROM:+0200
TZOFFSETTO:+0100
TZNAME:CET
DTSTART:20221030T010000
END:STANDARD
BEGIN:DAYLIGHT
TZOFFSETFROM:+0100
TZOFFSETTO:+0200
TZNAME:CEST
DTSTART:20230326T010000
END:DAYLIGHT
BEGIN:STANDARD
TZOFFSETFROM:+0200
TZOFFSETTO:+0100
TZNAME:CET
DTSTART:20231029T010000
END:STANDARD
BEGIN:DAYLIGHT
TZOFFSETFROM:+0100
TZOFFSETTO:+0200
TZNAME:CEST
DTSTART:20240331T010000
END:DAYLIGHT
BEGIN:STANDARD
TZOFFSETFROM:+0200
TZOFFSETTO:+0100
TZNAME:CET
DTSTART:20241027T010000
END:STANDARD
END:VTIMEZONE
BEGIN:VEVENT
DTSTART;TZID=Europe/Berlin:20231023T170000
DTEND;TZID=Europe/Berlin:20231023T213000
DTSTAMP:20260423T022512
CREATED:20231011T184834Z
LAST-MODIFIED:20231016T134736Z
UID:10000295-1698080400-1698096600@psvwiensportschiessen.at
SUMMARY:SSLV Wien RWK LP1 und LP1 Auflage Runde 1 Mannschaft PSV1 und Einzel / BBSV1
DESCRIPTION:Ausschreibung RWK LP1_ LP1 aufgelegt 2023_24
URL:https://psvwiensportschiessen.at/event/sslv-wien-rwk-lp1-und-lp1-auflage-mannschaft-1-und-einzel/
LOCATION:Schießstand des SSLV Wien\, Cumberlandstraße 102\, Wien\, 1140\, Österreich
CATEGORIES:LP1,Luftpistole,offener Bewerb
END:VEVENT
BEGIN:VEVENT
DTSTART;TZID=Europe/Berlin:20231024T170000
DTEND;TZID=Europe/Berlin:20231024T213000
DTSTAMP:20260423T022512
CREATED:20231011T191623Z
LAST-MODIFIED:20231016T134801Z
UID:10000296-1698166800-1698183000@psvwiensportschiessen.at
SUMMARY:SSLV Wien RWK LP1 und LP1 Auflage Runde 1 Mannschaft PSV 2 und Einzel / KSV Siemens
DESCRIPTION:Ausschreibung RWK LP1_ LP1 aufgelegt 2023_24
URL:https://psvwiensportschiessen.at/event/sslv-wien-rwk-lp1-und-lp1-auflage-runde-1-mannschaft-psv-2-ksv-siemens/
LOCATION:Freizeit- und Dienstsportzentrum PSV Wien\, Dampfschiffhaufen 2\, Wien\, 1220\, Österreich
CATEGORIES:LP1,Luftpistole,offener Bewerb
END:VEVENT
BEGIN:VEVENT
DTSTART;TZID=Europe/Berlin:20231025T160000
DTEND;TZID=Europe/Berlin:20231025T210000
DTSTAMP:20260423T022512
CREATED:20230919T210328Z
LAST-MODIFIED:20230919T210458Z
UID:10000275-1698249600-1698267600@psvwiensportschiessen.at
SUMMARY:SSLV Wien Rundenwettkämpfe LP5 Runde 1
DESCRIPTION:
URL:https://psvwiensportschiessen.at/event/sslv-wien-rundenwettkaempfe-lp5-runde-1/
LOCATION:KSV Siemens Luftstand\, Heinrich-von-Boul-Gasse 3\, Wien\, 1210\, Österreich
CATEGORIES:LP5,Luftpistole,offener Bewerb
END:VEVENT
BEGIN:VEVENT
DTSTART;TZID=Europe/Berlin:20231028T100000
DTEND;TZID=Europe/Berlin:20231028T120000
DTSTAMP:20260423T022512
CREATED:20230117T111626Z
LAST-MODIFIED:20230629T115014Z
UID:10000145-1698487200-1698494400@psvwiensportschiessen.at
SUMMARY:Vereinsmeisterschaft FFWGK
DESCRIPTION:VM_FFWGK_2023
URL:https://psvwiensportschiessen.at/event/vereinsmeisterschaft-ffwgk-4/
CATEGORIES:Faustfeuerwaffe Großkaliber (FFWGK),vereinsinterner Bewerb
END:VEVENT
END:VCALENDAR