BEGIN:VCALENDAR
VERSION:2.0
PRODID:-//PSV Wien Sektion Sportschießen - ECPv6.15.18//NONSGML v1.0//EN
CALSCALE:GREGORIAN
METHOD:PUBLISH
X-ORIGINAL-URL:https://psvwiensportschiessen.at
X-WR-CALDESC:Veranstaltungen für PSV Wien Sektion Sportschießen
REFRESH-INTERVAL;VALUE=DURATION:PT1H
X-Robots-Tag:noindex
X-PUBLISHED-TTL:PT1H
BEGIN:VTIMEZONE
TZID:Europe/Berlin
BEGIN:DAYLIGHT
TZOFFSETFROM:+0100
TZOFFSETTO:+0200
TZNAME:CEST
DTSTART:20220327T010000
END:DAYLIGHT
BEGIN:STANDARD
TZOFFSETFROM:+0200
TZOFFSETTO:+0100
TZNAME:CET
DTSTART:20221030T010000
END:STANDARD
BEGIN:DAYLIGHT
TZOFFSETFROM:+0100
TZOFFSETTO:+0200
TZNAME:CEST
DTSTART:20230326T010000
END:DAYLIGHT
BEGIN:STANDARD
TZOFFSETFROM:+0200
TZOFFSETTO:+0100
TZNAME:CET
DTSTART:20231029T010000
END:STANDARD
BEGIN:DAYLIGHT
TZOFFSETFROM:+0100
TZOFFSETTO:+0200
TZNAME:CEST
DTSTART:20240331T010000
END:DAYLIGHT
BEGIN:STANDARD
TZOFFSETFROM:+0200
TZOFFSETTO:+0100
TZNAME:CET
DTSTART:20241027T010000
END:STANDARD
END:VTIMEZONE
BEGIN:VEVENT
DTSTART;TZID=Europe/Berlin:20231017T170000
DTEND;TZID=Europe/Berlin:20231017T210000
DTSTAMP:20260423T005619
CREATED:20231005T202041Z
LAST-MODIFIED:20231009T160539Z
UID:10000284-1697562000-1697576400@psvwiensportschiessen.at
SUMMARY:ASKÖ LP5 Cup Runde 1
DESCRIPTION:Ausschreibung LP5 Cup 2023
URL:https://psvwiensportschiessen.at/event/askoe-lp5-runde-1/
LOCATION:Schützenverein Alt Erlaa-Wien Gas\, Anton-Baumgartner-Straße 44/ Block A/5\, Wien\, 1230\, Österreich
CATEGORIES:LP5,Luftpistole,offener Bewerb
END:VEVENT
BEGIN:VEVENT
DTSTART;TZID=Europe/Berlin:20231020T153000
DTEND;TZID=Europe/Berlin:20231020T163000
DTSTAMP:20260423T005619
CREATED:20230117T111606Z
LAST-MODIFIED:20230629T114929Z
UID:10000144-1697815800-1697819400@psvwiensportschiessen.at
SUMMARY:Vereinsmeisterschaft FFWGK
DESCRIPTION:VM_FFWGK_2023
URL:https://psvwiensportschiessen.at/event/vereinsmeisterschaft-ffwgk-3/
LOCATION:Schießsportzentrum Wien-Süßenbrunn\, Wielandweg 25\, Wien\, 1220\, Österreich
CATEGORIES:Faustfeuerwaffe Großkaliber (FFWGK),vereinsinterner Bewerb
END:VEVENT
BEGIN:VEVENT
DTSTART;TZID=Europe/Berlin:20231021T090000
DTEND;TZID=Europe/Berlin:20231021T120000
DTSTAMP:20260423T005619
CREATED:20230817T061254Z
LAST-MODIFIED:20231016T194811Z
UID:10000269-1697878800-1697889600@psvwiensportschiessen.at
SUMMARY:Pärchenschießen
DESCRIPTION:Pärchenschießen_20231021
URL:https://psvwiensportschiessen.at/event/paerchenschiessen/
LOCATION:Schießsportzentrum Wien-Süßenbrunn\, Wielandweg 25\, Wien\, 1220\, Österreich
CATEGORIES:Faustfeuerwaffe Großkaliber (FFWGK),Kleinkaliber (.22),offener Bewerb
END:VEVENT
BEGIN:VEVENT
DTSTART;TZID=Europe/Berlin:20231021T130000
DTEND;TZID=Europe/Berlin:20231021T170000
DTSTAMP:20260423T005620
CREATED:20230817T061353Z
LAST-MODIFIED:20230817T061404Z
UID:10000270-1697893200-1697907600@psvwiensportschiessen.at
SUMMARY:Mixed Team (FFWGK)
DESCRIPTION:MixedTeam_20231021
URL:https://psvwiensportschiessen.at/event/mixed-team-ffwgk/
LOCATION:Schießsportzentrum Wien-Süßenbrunn\, Wielandweg 25\, Wien\, 1220\, Österreich
CATEGORIES:Faustfeuerwaffe Großkaliber (FFWGK),offener Bewerb
END:VEVENT
END:VCALENDAR