BEGIN:VCALENDAR
VERSION:2.0
PRODID:-//PSV Wien Sektion Sportschießen - ECPv6.15.18//NONSGML v1.0//EN
CALSCALE:GREGORIAN
METHOD:PUBLISH
X-ORIGINAL-URL:https://psvwiensportschiessen.at
X-WR-CALDESC:Veranstaltungen für PSV Wien Sektion Sportschießen
REFRESH-INTERVAL;VALUE=DURATION:PT1H
X-Robots-Tag:noindex
X-PUBLISHED-TTL:PT1H
BEGIN:VTIMEZONE
TZID:Europe/Berlin
BEGIN:DAYLIGHT
TZOFFSETFROM:+0100
TZOFFSETTO:+0200
TZNAME:CEST
DTSTART:20220327T010000
END:DAYLIGHT
BEGIN:STANDARD
TZOFFSETFROM:+0200
TZOFFSETTO:+0100
TZNAME:CET
DTSTART:20221030T010000
END:STANDARD
BEGIN:DAYLIGHT
TZOFFSETFROM:+0100
TZOFFSETTO:+0200
TZNAME:CEST
DTSTART:20230326T010000
END:DAYLIGHT
BEGIN:STANDARD
TZOFFSETFROM:+0200
TZOFFSETTO:+0100
TZNAME:CET
DTSTART:20231029T010000
END:STANDARD
BEGIN:DAYLIGHT
TZOFFSETFROM:+0100
TZOFFSETTO:+0200
TZNAME:CEST
DTSTART:20240331T010000
END:DAYLIGHT
BEGIN:STANDARD
TZOFFSETFROM:+0200
TZOFFSETTO:+0100
TZNAME:CET
DTSTART:20241027T010000
END:STANDARD
END:VTIMEZONE
BEGIN:VEVENT
DTSTART;TZID=Europe/Berlin:20230926T180000
DTEND;TZID=Europe/Berlin:20230926T220000
DTSTAMP:20260423T003637
CREATED:20230330T083044Z
LAST-MODIFIED:20230330T083249Z
UID:10000246-1695751200-1695765600@psvwiensportschiessen.at
SUMMARY:Vereinsabend September
DESCRIPTION:
URL:https://psvwiensportschiessen.at/event/psv-vereinsabend-3/
LOCATION:Freizeit- und Dienstsportzentrum PSV Wien\, Dampfschiffhaufen 2\, Wien\, 1220\, Österreich
CATEGORIES:vereinsinterne Veranstaltung (kein Bewerb)
END:VEVENT
BEGIN:VEVENT
DTSTART;TZID=Europe/Berlin:20230927T170000
DTEND;TZID=Europe/Berlin:20230927T210000
DTSTAMP:20260423T003637
CREATED:20230222T094642Z
LAST-MODIFIED:20230703T064554Z
UID:10000226-1695834000-1695848400@psvwiensportschiessen.at
SUMMARY:offener PSV Sommercup LP1
DESCRIPTION:offener_PSV_Sommercup_LP1_LP5
URL:https://psvwiensportschiessen.at/event/offener-psv-sommercup-lp1-stehend-frei-und-auflage-6/
LOCATION:Freizeit- und Dienstsportzentrum PSV Wien\, Dampfschiffhaufen 2\, Wien\, 1220\, Österreich
CATEGORIES:LP1,Luftpistole,offener Bewerb
END:VEVENT
END:VCALENDAR