BEGIN:VCALENDAR
VERSION:2.0
PRODID:-//PSV Wien Sektion Sportschießen - ECPv6.15.18//NONSGML v1.0//EN
CALSCALE:GREGORIAN
METHOD:PUBLISH
X-ORIGINAL-URL:https://psvwiensportschiessen.at
X-WR-CALDESC:Veranstaltungen für PSV Wien Sektion Sportschießen
REFRESH-INTERVAL;VALUE=DURATION:PT1H
X-Robots-Tag:noindex
X-PUBLISHED-TTL:PT1H
BEGIN:VTIMEZONE
TZID:Europe/Berlin
BEGIN:DAYLIGHT
TZOFFSETFROM:+0100
TZOFFSETTO:+0200
TZNAME:CEST
DTSTART:20220327T010000
END:DAYLIGHT
BEGIN:STANDARD
TZOFFSETFROM:+0200
TZOFFSETTO:+0100
TZNAME:CET
DTSTART:20221030T010000
END:STANDARD
BEGIN:DAYLIGHT
TZOFFSETFROM:+0100
TZOFFSETTO:+0200
TZNAME:CEST
DTSTART:20230326T010000
END:DAYLIGHT
BEGIN:STANDARD
TZOFFSETFROM:+0200
TZOFFSETTO:+0100
TZNAME:CET
DTSTART:20231029T010000
END:STANDARD
BEGIN:DAYLIGHT
TZOFFSETFROM:+0100
TZOFFSETTO:+0200
TZNAME:CEST
DTSTART:20240331T010000
END:DAYLIGHT
BEGIN:STANDARD
TZOFFSETFROM:+0200
TZOFFSETTO:+0100
TZNAME:CET
DTSTART:20241027T010000
END:STANDARD
END:VTIMEZONE
BEGIN:VEVENT
DTSTART;TZID=Europe/Berlin:20230628T170000
DTEND;TZID=Europe/Berlin:20230628T210000
DTSTAMP:20260423T053519
CREATED:20230222T094204Z
LAST-MODIFIED:20230703T064728Z
UID:10000222-1687971600-1687986000@psvwiensportschiessen.at
SUMMARY:offener PSV Sommercup LP1
DESCRIPTION:offener_PSV_Sommercup_LP1_LP5
URL:https://psvwiensportschiessen.at/event/offener-psv-sommercup-lp1-stehend-frei-und-auflage-2/
LOCATION:Freizeit- und Dienstsportzentrum PSV Wien\, Dampfschiffhaufen 2\, Wien\, 1220\, Österreich
CATEGORIES:LP1,Luftpistole,offener Bewerb
END:VEVENT
BEGIN:VEVENT
DTSTART;TZID=Europe/Berlin:20230701T083000
DTEND;TZID=Europe/Berlin:20230701T133000
DTSTAMP:20260423T053519
CREATED:20230330T101336Z
LAST-MODIFIED:20230330T101336Z
UID:10000251-1688200200-1688218200@psvwiensportschiessen.at
SUMMARY:Wiener Cup 50m Pistole und 50m Pistole aufgelegt 2023
DESCRIPTION:50m Pistole Rundenwettkämpfe 2023 Ausschreibung
URL:https://psvwiensportschiessen.at/event/wiener-cup-50m-pistole-und-50m-pistole-aufgelegt-2023-5/
LOCATION:Schießstätte des HSV in Wien-Stammersdorf\, In den Gabrissen 91\, Wien\, 1210\, Österreich
CATEGORIES:50m Pistole (ISSF),offener Bewerb
END:VEVENT
BEGIN:VEVENT
DTSTART;TZID=Europe/Berlin:20230701T090000
DTEND;TZID=Europe/Berlin:20230701T130000
DTSTAMP:20260423T053519
CREATED:20230117T102606Z
LAST-MODIFIED:20230208T205803Z
UID:10000121-1688202000-1688216400@psvwiensportschiessen.at
SUMMARY:SSLV Wien SGKP Wiener Cup Runde 3
DESCRIPTION:Ausschreibung_SGKP_CUP_2023
URL:https://psvwiensportschiessen.at/event/sslv-wien-ffwgk-wiener-cup-runde-3/
LOCATION:Schießstätte des HSV in Wien-Stammersdorf\, In den Gabrissen 91\, Wien\, 1210\, Österreich
CATEGORIES:Faustfeuerwaffe Großkaliber (FFWGK),offener Bewerb
END:VEVENT
END:VCALENDAR