BEGIN:VCALENDAR
VERSION:2.0
PRODID:-//PSV Wien Sektion Sportschießen - ECPv6.15.18//NONSGML v1.0//EN
CALSCALE:GREGORIAN
METHOD:PUBLISH
X-WR-CALNAME:PSV Wien Sektion Sportschießen
X-ORIGINAL-URL:https://psvwiensportschiessen.at
X-WR-CALDESC:Veranstaltungen für PSV Wien Sektion Sportschießen
REFRESH-INTERVAL;VALUE=DURATION:PT1H
X-Robots-Tag:noindex
X-PUBLISHED-TTL:PT1H
BEGIN:VTIMEZONE
TZID:Europe/Berlin
BEGIN:DAYLIGHT
TZOFFSETFROM:+0100
TZOFFSETTO:+0200
TZNAME:CEST
DTSTART:20220327T010000
END:DAYLIGHT
BEGIN:STANDARD
TZOFFSETFROM:+0200
TZOFFSETTO:+0100
TZNAME:CET
DTSTART:20221030T010000
END:STANDARD
BEGIN:DAYLIGHT
TZOFFSETFROM:+0100
TZOFFSETTO:+0200
TZNAME:CEST
DTSTART:20230326T010000
END:DAYLIGHT
BEGIN:STANDARD
TZOFFSETFROM:+0200
TZOFFSETTO:+0100
TZNAME:CET
DTSTART:20231029T010000
END:STANDARD
BEGIN:DAYLIGHT
TZOFFSETFROM:+0100
TZOFFSETTO:+0200
TZNAME:CEST
DTSTART:20240331T010000
END:DAYLIGHT
BEGIN:STANDARD
TZOFFSETFROM:+0200
TZOFFSETTO:+0100
TZNAME:CET
DTSTART:20241027T010000
END:STANDARD
END:VTIMEZONE
BEGIN:VEVENT
DTSTART;TZID=Europe/Berlin:20230425T180000
DTEND;TZID=Europe/Berlin:20230425T213000
DTSTAMP:20260423T192843
CREATED:20230316T085934Z
LAST-MODIFIED:20230316T085934Z
UID:10000238-1682445600-1682458200@psvwiensportschiessen.at
SUMMARY:Vereinsabend April 2023
DESCRIPTION:
URL:https://psvwiensportschiessen.at/event/vereinsabend-april-2023/
CATEGORIES:vereinsinterne Veranstaltung (kein Bewerb)
END:VEVENT
BEGIN:VEVENT
DTSTART;TZID=Europe/Berlin:20230428T160000
DTEND;TZID=Europe/Berlin:20230428T190000
DTSTAMP:20260423T192843
CREATED:20230117T101559Z
LAST-MODIFIED:20230228T142940Z
UID:10000114-1682697600-1682708400@psvwiensportschiessen.at
SUMMARY:Disziplinübergreifende Vereinsmeisterschaft (25m Pistole und FFWGK) Tag 2
DESCRIPTION:PSV DÜVM 2023
URL:https://psvwiensportschiessen.at/event/disziplinuebergreifende-vereinsmeisterschaft-25m-pistole-und-ffwgk-tag-2/
LOCATION:Schießsportzentrum Wien-Süßenbrunn\, Wielandweg 25\, Wien\, 1220\, Österreich
CATEGORIES:25m Pistole (ISSF),Faustfeuerwaffe Großkaliber (FFWGK),vereinsinterner Bewerb
END:VEVENT
BEGIN:VEVENT
DTSTART;TZID=Europe/Berlin:20230429T090000
DTEND;TZID=Europe/Berlin:20230429T130000
DTSTAMP:20260423T192843
CREATED:20230219T085028Z
LAST-MODIFIED:20230424T115518Z
UID:10000182-1682758800-1682773200@psvwiensportschiessen.at
SUMMARY:FFWGK Vollprogramm 30/30 (ausgebucht - Warteliste)
DESCRIPTION:FFWGK_Vollprogramm_30-30-_20230429
URL:https://psvwiensportschiessen.at/event/ffwgk-vollprogramm-30-30/
LOCATION:Schießsportzentrum Wien-Süßenbrunn\, Wielandweg 25\, Wien\, 1220\, Österreich
CATEGORIES:Faustfeuerwaffe Großkaliber (FFWGK),offener Bewerb
END:VEVENT
END:VCALENDAR