BEGIN:VCALENDAR
VERSION:2.0
PRODID:-//PSV Wien Sektion Sportschießen - ECPv6.15.18//NONSGML v1.0//EN
CALSCALE:GREGORIAN
METHOD:PUBLISH
X-WR-CALNAME:PSV Wien Sektion Sportschießen
X-ORIGINAL-URL:https://psvwiensportschiessen.at
X-WR-CALDESC:Veranstaltungen für PSV Wien Sektion Sportschießen
REFRESH-INTERVAL;VALUE=DURATION:PT1H
X-Robots-Tag:noindex
X-PUBLISHED-TTL:PT1H
BEGIN:VTIMEZONE
TZID:Europe/Berlin
BEGIN:DAYLIGHT
TZOFFSETFROM:+0100
TZOFFSETTO:+0200
TZNAME:CEST
DTSTART:20220327T010000
END:DAYLIGHT
BEGIN:STANDARD
TZOFFSETFROM:+0200
TZOFFSETTO:+0100
TZNAME:CET
DTSTART:20221030T010000
END:STANDARD
BEGIN:DAYLIGHT
TZOFFSETFROM:+0100
TZOFFSETTO:+0200
TZNAME:CEST
DTSTART:20230326T010000
END:DAYLIGHT
BEGIN:STANDARD
TZOFFSETFROM:+0200
TZOFFSETTO:+0100
TZNAME:CET
DTSTART:20231029T010000
END:STANDARD
BEGIN:DAYLIGHT
TZOFFSETFROM:+0100
TZOFFSETTO:+0200
TZNAME:CEST
DTSTART:20240331T010000
END:DAYLIGHT
BEGIN:STANDARD
TZOFFSETFROM:+0200
TZOFFSETTO:+0100
TZNAME:CET
DTSTART:20241027T010000
END:STANDARD
END:VTIMEZONE
BEGIN:VEVENT
DTSTART;TZID=Europe/Berlin:20230309T100000
DTEND;TZID=Europe/Berlin:20230309T120000
DTSTAMP:20260424T012820
CREATED:20221014T095247Z
LAST-MODIFIED:20221014T095247Z
UID:10000097-1678356000-1678363200@psvwiensportschiessen.at
SUMMARY:SSLV Wien Wiener Cup Senioren 3 LG Runde 8
DESCRIPTION:22-23_Ausschreibung_S3_Cup_V02
URL:https://psvwiensportschiessen.at/event/sslv-wien-wiener-cup-senioren-3-lg-runde-8/
LOCATION:Wiener Schützenverein\, Richtergasse 1a\, Wien\, 1070\, Österreich
CATEGORIES:Luftgewehr,offener Bewerb
END:VEVENT
BEGIN:VEVENT
DTSTART;TZID=Europe/Berlin:20230309T180000
DTEND;TZID=Europe/Berlin:20230309T213000
DTSTAMP:20260424T012820
CREATED:20230130T135009Z
LAST-MODIFIED:20230130T135009Z
UID:10000157-1678384800-1678397400@psvwiensportschiessen.at
SUMMARY:Wiener Landesmeisterschaft Luftpistole - LP Auflage allgemeine Klasse
DESCRIPTION:LP_LM_Ausschreibung 2023
URL:https://psvwiensportschiessen.at/event/wiener-landesmeisterschaft-luftpistole-lp-auflage-allgemeine-klasse/
LOCATION:Schießstand des SSLV Wien\, Cumberlandstraße 102\, Wien\, 1140\, Österreich
CATEGORIES:LP1,offener Bewerb
END:VEVENT
BEGIN:VEVENT
DTSTART;TZID=Europe/Berlin:20230310T130000
DTEND;TZID=Europe/Berlin:20230310T170000
DTSTAMP:20260424T012820
CREATED:20230130T135254Z
LAST-MODIFIED:20230130T135314Z
UID:10000158-1678453200-1678467600@psvwiensportschiessen.at
SUMMARY:Wiener Landesmeisterschaft Luftpistole - LP5 alle Klassen
DESCRIPTION:LP_LM_Ausschreibung 2023
URL:https://psvwiensportschiessen.at/event/wiener-landesmeisterschaft-luftpistole-lp5-alle-klassen/
LOCATION:Schießstand des SSLV Wien\, Cumberlandstraße 102\, Wien\, 1140\, Österreich
CATEGORIES:LP5,offener Bewerb
END:VEVENT
BEGIN:VEVENT
DTSTART;TZID=Europe/Berlin:20230310T170000
DTEND;TZID=Europe/Berlin:20230310T213000
DTSTAMP:20260424T012820
CREATED:20230130T135400Z
LAST-MODIFIED:20230130T135400Z
UID:10000159-1678467600-1678483800@psvwiensportschiessen.at
SUMMARY:Wiener Landesmeisterschaft Luftpistole - LP Mixed Team
DESCRIPTION:LP_LM_Ausschreibung 2023
URL:https://psvwiensportschiessen.at/event/wiener-landesmeisterschaft-luftpistole-lp-mixed-team/
LOCATION:Schießstand des SSLV Wien\, Cumberlandstraße 102\, Wien\, 1140\, Österreich
CATEGORIES:LP1,offener Bewerb
END:VEVENT
BEGIN:VEVENT
DTSTART;TZID=Europe/Berlin:20230311T090000
DTEND;TZID=Europe/Berlin:20230311T213000
DTSTAMP:20260424T012820
CREATED:20230130T135513Z
LAST-MODIFIED:20230130T135513Z
UID:10000160-1678525200-1678570200@psvwiensportschiessen.at
SUMMARY:Wiener Landesmeisterschaft Luftpistole - LP 1 Seniorenklassen
DESCRIPTION:LP_LM_Ausschreibung 2023
URL:https://psvwiensportschiessen.at/event/wiener-landesmeisterschaft-luftpistole-lp-1-seniorenklassen/
LOCATION:Schießstand des SSLV Wien\, Cumberlandstraße 102\, Wien\, 1140\, Österreich
CATEGORIES:LP1,offener Bewerb
END:VEVENT
BEGIN:VEVENT
DTSTART;TZID=Europe/Berlin:20230312T090000
DTEND;TZID=Europe/Berlin:20230312T190000
DTSTAMP:20260424T012820
CREATED:20230130T135613Z
LAST-MODIFIED:20230130T135613Z
UID:10000161-1678611600-1678647600@psvwiensportschiessen.at
SUMMARY:Wiener Landesmeisterschaft Luftpistole - LP 1 Nachwuchsklassen\, Frauen\, Männer und Finale
DESCRIPTION:LP_LM_Ausschreibung 2023
URL:https://psvwiensportschiessen.at/event/wiener-landesmeisterschaft-luftpistole-lp-1-nachwuchsklassen-frauen-maenner-und-finale/
LOCATION:Schießstand des SSLV Wien\, Cumberlandstraße 102\, Wien\, 1140\, Österreich
CATEGORIES:LP1,offener Bewerb
END:VEVENT
END:VCALENDAR