BEGIN:VCALENDAR
VERSION:2.0
PRODID:-//PSV Wien Sektion Sportschießen - ECPv6.15.18//NONSGML v1.0//EN
CALSCALE:GREGORIAN
METHOD:PUBLISH
X-ORIGINAL-URL:https://psvwiensportschiessen.at
X-WR-CALDESC:Veranstaltungen für PSV Wien Sektion Sportschießen
REFRESH-INTERVAL;VALUE=DURATION:PT1H
X-Robots-Tag:noindex
X-PUBLISHED-TTL:PT1H
BEGIN:VTIMEZONE
TZID:Europe/Berlin
BEGIN:DAYLIGHT
TZOFFSETFROM:+0100
TZOFFSETTO:+0200
TZNAME:CEST
DTSTART:20230326T010000
END:DAYLIGHT
BEGIN:STANDARD
TZOFFSETFROM:+0200
TZOFFSETTO:+0100
TZNAME:CET
DTSTART:20231029T010000
END:STANDARD
BEGIN:DAYLIGHT
TZOFFSETFROM:+0100
TZOFFSETTO:+0200
TZNAME:CEST
DTSTART:20240331T010000
END:DAYLIGHT
BEGIN:STANDARD
TZOFFSETFROM:+0200
TZOFFSETTO:+0100
TZNAME:CET
DTSTART:20241027T010000
END:STANDARD
BEGIN:DAYLIGHT
TZOFFSETFROM:+0100
TZOFFSETTO:+0200
TZNAME:CEST
DTSTART:20250330T010000
END:DAYLIGHT
BEGIN:STANDARD
TZOFFSETFROM:+0200
TZOFFSETTO:+0100
TZNAME:CET
DTSTART:20251026T010000
END:STANDARD
END:VTIMEZONE
BEGIN:VEVENT
DTSTART;TZID=Europe/Berlin:20240310T080000
DTEND;TZID=Europe/Berlin:20240310T183000
DTSTAMP:20260421T101229
CREATED:20240205T111154Z
LAST-MODIFIED:20240205T111154Z
UID:10000348-1710057600-1710095400@psvwiensportschiessen.at
SUMMARY:SSLV Wien Landesmeisterschaft LG / Jugend 1\, 2\, Jungschützen und Jungschützinnen und stehend aufgelegt (alle Klassen)
DESCRIPTION:2024_Ausschreibung_LM_V02
URL:https://psvwiensportschiessen.at/event/sslv-wien-landesmeisterschaft-lg-jugend-1-2-jungschuetzen-und-jungschuetzinnen-und-stehend-aufgelegt-alle-klassen/
LOCATION:Schießstand des SSLV Wien\, Cumberlandstraße 102\, Wien\, 1140\, Österreich
CATEGORIES:Luftgewehr,offener Bewerb
END:VEVENT
END:VCALENDAR