BEGIN:VCALENDAR
VERSION:2.0
PRODID:-//PSV Wien Sektion Sportschießen - ECPv6.15.18//NONSGML v1.0//EN
CALSCALE:GREGORIAN
METHOD:PUBLISH
X-ORIGINAL-URL:https://psvwiensportschiessen.at
X-WR-CALDESC:Veranstaltungen für PSV Wien Sektion Sportschießen
REFRESH-INTERVAL;VALUE=DURATION:PT1H
X-Robots-Tag:noindex
X-PUBLISHED-TTL:PT1H
BEGIN:VTIMEZONE
TZID:Europe/Berlin
BEGIN:DAYLIGHT
TZOFFSETFROM:+0100
TZOFFSETTO:+0200
TZNAME:CEST
DTSTART:20220327T010000
END:DAYLIGHT
BEGIN:STANDARD
TZOFFSETFROM:+0200
TZOFFSETTO:+0100
TZNAME:CET
DTSTART:20221030T010000
END:STANDARD
BEGIN:DAYLIGHT
TZOFFSETFROM:+0100
TZOFFSETTO:+0200
TZNAME:CEST
DTSTART:20230326T010000
END:DAYLIGHT
BEGIN:STANDARD
TZOFFSETFROM:+0200
TZOFFSETTO:+0100
TZNAME:CET
DTSTART:20231029T010000
END:STANDARD
BEGIN:DAYLIGHT
TZOFFSETFROM:+0100
TZOFFSETTO:+0200
TZNAME:CEST
DTSTART:20240331T010000
END:DAYLIGHT
BEGIN:STANDARD
TZOFFSETFROM:+0200
TZOFFSETTO:+0100
TZNAME:CET
DTSTART:20241027T010000
END:STANDARD
END:VTIMEZONE
BEGIN:VEVENT
DTSTART;VALUE=DATE:20230218
DTEND;VALUE=DATE:20230219
DTSTAMP:20260424T060805
CREATED:20221014T090119Z
LAST-MODIFIED:20221014T090119Z
UID:10000088-1676678400-1676764799@psvwiensportschiessen.at
SUMMARY:SSLV Wien Rundenwettkampf LG Runde 7
DESCRIPTION:22-23_Ausschreibung_RWK_V02
URL:https://psvwiensportschiessen.at/event/sslv-wien-rundenwettkampf-lg-runde-7/
LOCATION:Hütteldorfer Schützenverein 1872\, Lorenz-Stein-Straße 12\, Wien\, 1140\, Österreich
CATEGORIES:Luftgewehr,offener Bewerb
END:VEVENT
END:VCALENDAR